BEGIN:VCALENDAR
VERSION:2.0
PRODID:-//Corvette Club of Windsor - ECPv6.15.20//NONSGML v1.0//EN
CALSCALE:GREGORIAN
METHOD:PUBLISH
X-ORIGINAL-URL:https://www.corvetteclubofwindsor.com
X-WR-CALDESC:Events for Corvette Club of Windsor
REFRESH-INTERVAL;VALUE=DURATION:PT1H
X-Robots-Tag:noindex
X-PUBLISHED-TTL:PT1H
BEGIN:VTIMEZONE
TZID:America/Toronto
BEGIN:DAYLIGHT
TZOFFSETFROM:-0500
TZOFFSETTO:-0400
TZNAME:EDT
DTSTART:20240310T070000
END:DAYLIGHT
BEGIN:STANDARD
TZOFFSETFROM:-0400
TZOFFSETTO:-0500
TZNAME:EST
DTSTART:20241103T060000
END:STANDARD
BEGIN:DAYLIGHT
TZOFFSETFROM:-0500
TZOFFSETTO:-0400
TZNAME:EDT
DTSTART:20250309T070000
END:DAYLIGHT
BEGIN:STANDARD
TZOFFSETFROM:-0400
TZOFFSETTO:-0500
TZNAME:EST
DTSTART:20251102T060000
END:STANDARD
BEGIN:DAYLIGHT
TZOFFSETFROM:-0500
TZOFFSETTO:-0400
TZNAME:EDT
DTSTART:20260308T070000
END:DAYLIGHT
BEGIN:STANDARD
TZOFFSETFROM:-0400
TZOFFSETTO:-0500
TZNAME:EST
DTSTART:20261101T060000
END:STANDARD
END:VTIMEZONE
BEGIN:VEVENT
DTSTART;TZID=America/Toronto:20251106T180000
DTEND;TZID=America/Toronto:20251106T200000
DTSTAMP:20260423T190203
CREATED:20250923T153914Z
LAST-MODIFIED:20250923T153914Z
UID:10526-1762452000-1762459200@www.corvetteclubofwindsor.com
SUMMARY:Sponsors Dinner - Royal Canadian Legion Branch 255
DESCRIPTION:Please join us for a sponsors dinner at the Legion. Confirm your attendance with Lynda Reaume please.
URL:https://www.corvetteclubofwindsor.com/event/sponsors-dinner-royal-canadian-legion-branch-255/
LOCATION:Royal Canadian Legion Branch 255\, 5645 Wyandotte St E\, Windsor\, Ontario\, N8S 1M4\, Canada
ATTACH;FMTTYPE=image/jpeg:https://www.corvetteclubofwindsor.com/wp-content/uploads/2025/09/RCL-255.jpg
ORGANIZER;CN="Lynda Reaume":MAILTO:lyndareaume@yahoo.com
END:VEVENT
BEGIN:VEVENT
DTSTART;TZID=America/Toronto:20251120T170000
DTEND;TZID=America/Toronto:20251120T200000
DTSTAMP:20260423T190203
CREATED:20250905T153112Z
LAST-MODIFIED:20251021T182314Z
UID:10507-1763658000-1763668800@www.corvetteclubofwindsor.com
SUMMARY:Annual General Meeting - Election Night
DESCRIPTION:Our monthly membership meeting will have an expanded agenda this month. We will be holding our AGM including a full financial report from our Treasurer – Gary McGuiness – and we will be holding elections for open positions this evening. Our guest speaker is being confirmed\, but you wont want to miss this one if you are a Corvette fan. \nIt is Thursday – November 20th at Coopers Hawk Winery – 1425 Iler Rd\, Harrow\, ON N0R 1G0. Dinner starts at 5:00 and the meeting will commence at 6:30.\n\nFor those coming to dinner\, please notify Phil or Dianne Luppke – philluppke@gmail.com or Mobile (519) 580 6424 by November 13th.
URL:https://www.corvetteclubofwindsor.com/event/annual-general-meeting-election-night/
LOCATION:Cooper’s Hawk Vineyards\, 1425 Iler Rd\, Harrow\, Ontario\, N0R 1G0\, Canada
CATEGORIES:Club Meeting,Social
ATTACH;FMTTYPE=image/jpeg:https://www.corvetteclubofwindsor.com/wp-content/uploads/2025/09/Coopers-Hawk-Front.jpg
ORGANIZER;CN="Lynda Reaume":MAILTO:lyndareaume@yahoo.com
END:VEVENT
END:VCALENDAR