BEGIN:VCALENDAR
VERSION:2.0
PRODID:-//Corvette Club of Windsor - ECPv6.15.20//NONSGML v1.0//EN
CALSCALE:GREGORIAN
METHOD:PUBLISH
X-WR-CALNAME:Corvette Club of Windsor
X-ORIGINAL-URL:https://www.corvetteclubofwindsor.com
X-WR-CALDESC:Events for Corvette Club of Windsor
REFRESH-INTERVAL;VALUE=DURATION:PT1H
X-Robots-Tag:noindex
X-PUBLISHED-TTL:PT1H
BEGIN:VTIMEZONE
TZID:America/Toronto
BEGIN:DAYLIGHT
TZOFFSETFROM:-0500
TZOFFSETTO:-0400
TZNAME:EDT
DTSTART:20240310T070000
END:DAYLIGHT
BEGIN:STANDARD
TZOFFSETFROM:-0400
TZOFFSETTO:-0500
TZNAME:EST
DTSTART:20241103T060000
END:STANDARD
BEGIN:DAYLIGHT
TZOFFSETFROM:-0500
TZOFFSETTO:-0400
TZNAME:EDT
DTSTART:20250309T070000
END:DAYLIGHT
BEGIN:STANDARD
TZOFFSETFROM:-0400
TZOFFSETTO:-0500
TZNAME:EST
DTSTART:20251102T060000
END:STANDARD
BEGIN:DAYLIGHT
TZOFFSETFROM:-0500
TZOFFSETTO:-0400
TZNAME:EDT
DTSTART:20260308T070000
END:DAYLIGHT
BEGIN:STANDARD
TZOFFSETFROM:-0400
TZOFFSETTO:-0500
TZNAME:EST
DTSTART:20261101T060000
END:STANDARD
END:VTIMEZONE
BEGIN:VTIMEZONE
TZID:UTC
BEGIN:STANDARD
TZOFFSETFROM:+0000
TZOFFSETTO:+0000
TZNAME:UTC
DTSTART:20240101T000000
END:STANDARD
END:VTIMEZONE
BEGIN:VEVENT
DTSTART;TZID=America/Toronto:20250701T190000
DTEND;TZID=America/Toronto:20250701T203000
DTSTAMP:20260424T013210
CREATED:20241125T193534Z
LAST-MODIFIED:20250105T043406Z
UID:4064-1751396400-1751401800@www.corvetteclubofwindsor.com
SUMMARY:Executive Meeting
DESCRIPTION:Our Executive Committee meetings are held on the first Tuesday of the month\, from 7:00 pm to 8:30 pm.
URL:https://www.corvetteclubofwindsor.com/event/monthly-executive-meeting-7/
LOCATION:Cavalier Tool & Manufacturing Ltd\, 3450 Wheelton Dr\, Windsor\, Ontario\, N8W 5A7\, Canada
CATEGORIES:Club Meeting
ATTACH;FMTTYPE=image/jpeg:https://www.corvetteclubofwindsor.com/wp-content/uploads/2024/11/C4E5F375-C68C-4C00-8ACF-BB1374AD4BED.jpeg
END:VEVENT
BEGIN:VEVENT
DTSTART;VALUE=DATE:20250704
DTEND;VALUE=DATE:20250706
DTSTAMP:20260424T013210
CREATED:20250610T144657Z
LAST-MODIFIED:20250703T143349Z
UID:10077-1751587200-1751759999@www.corvetteclubofwindsor.com
SUMMARY:Bayfield Vette Fest 2025
DESCRIPTION:17th Annual Bayfield Vette Fest! \n\nCCoW will be caravaning up Friday\, leaving Windsor from the OPP Car Park at Manning and 401. Stopping to pick up cars in Wheatly and Chatham. The route does NOT include any travel on the 401 so all cars are good to go!\n\n\nSchedule as follows:\n\n\n\n\nWe will be leaving from the carpool lot at the OPP station on Manning and 401. We are not taking the 401.\n\n\nDepart 11:30 AM Friday 4 July Please try to be there by 11:15\n\n\nArrive 12:00 PM  Tim Horton’s Comber where we pick up the Southshore group.\n\n\nDepart Tim Horton’s 12:05 PM\n\n\nArrive Dover Duds by 12:50 PM where we pick up Waz & Tricia\n\n\nDepart Dover Duds 12:55 PM\n\n\nArrive 2:00 Tim Horton’s in Forrest for bathroom break\n\n\nDepart Tim Horton’s 2:15 PM\n\n\nWe will be taking a bypass route around Grand Bend to avoid Friday (American long weekend) traffic\n\n\nArrive in Goderich 3:25 PM\n\n\n\n\n\n\nDinner is scheduled at Hessenland Inn. We will be departing from the Comfort Inn at 4:25 PM.\n\nFriday July 4th is the Vette fest cruise night and it will leave Clam Gregor square Park in Bayfield at 7 PM sharp! Last year there were 125 vettes in the cruise! The route will be finalized that night. This year\, they will be leaving the park and not making a stop along the way\, but all meeting back at THE LITTLE INN OF BAYFIELD to enjoy some food and drinks after the cruise.\nThe Saturday show begins at 8 am and it is $20 CASH to bring your corvette into the park and the volunteers will help you park! Please leave room for everyone to get into the park to enjoy the day! Last Year we had over 400 corvettes in the park and some outside the park as well.\nThe Bayfield Firemen’s Breakfast is on that morning as well so park your car and make your way over to the firehall to enjoy a hardy meal!\n\nPlease let Tim Galbraith know if you are planning to join the caravan and/or joining us for dinner.
URL:https://www.corvetteclubofwindsor.com/event/bayfield-vette-fest-2025/
LOCATION:Clan Gregor Square – Bayfield\, 6 The Square\, Bayfield\, Ontario\, N0M 1G0\, Canada
ATTACH;FMTTYPE=image/jpeg:https://www.corvetteclubofwindsor.com/wp-content/uploads/2025/06/Bayfield-Vette-Fest-Poster.jpg
ORGANIZER;CN="Tim Galbraith":MAILTO:president@corvetteclubofwindsor.com
END:VEVENT
BEGIN:VEVENT
DTSTART;TZID=America/Toronto:20250705T100000
DTEND;TZID=America/Toronto:20250705T150000
DTSTAMP:20260424T013210
CREATED:20250513T210807Z
LAST-MODIFIED:20250702T000649Z
UID:9770-1751709600-1751727600@www.corvetteclubofwindsor.com
SUMMARY:Rick Farrow’s Classic Car
DESCRIPTION:Rev up your engines and join us for a spectacular Classic Car Show in support of Make-A-Wish® Southwestern Ontario at Farrow Riverside Miracle Park! Taking place on July 5th\, from 10 AM to 3 PM (with a rain date of July 6th)\, this event will showcase an incredible lineup of classic cars\, bringing together enthusiasts and community members for a day of automotive nostalgia. Car registration kicks off at 8 AM at Farrow (2001 Huron Church Road)\, so arrive early to secure your spot among fellow collectors and admirers.
URL:https://www.corvetteclubofwindsor.com/event/rick-farrows-classic-car/
LOCATION:Rick Farrow’s\, 2265 Ambassador Drive\, Windsor\, Ontario\, N9C 2L6\, Canada
CATEGORIES:Fundraiser
ATTACH;FMTTYPE=image/jpeg:https://www.corvetteclubofwindsor.com/wp-content/uploads/2025/05/Farrow-Classic-Car-Show-2025.jpg
END:VEVENT
BEGIN:VEVENT
DTSTART;TZID=America/Toronto:20250706T120000
DTEND;TZID=America/Toronto:20250706T160000
DTSTAMP:20260424T013210
CREATED:20250618T124416Z
LAST-MODIFIED:20250618T124416Z
UID:10283-1751803200-1751817600@www.corvetteclubofwindsor.com
SUMMARY:Buddies Performance Car Show
DESCRIPTION:The 5th Annual Buddies Performance Car Show. This years car show will be on July 6th 2025 at WFCU ARENA between 12pm – 4pm!  Food & beverage vendors\, ZOO2YOU \, and many other vendors. Entry fee is 5 dollars per vehicle NO PRE REGISTRATION REQUIRED.
URL:https://www.corvetteclubofwindsor.com/event/buddies-performance-car-show/
LOCATION:THE WFCU CENTRE\, 8787 McHugh Street\, Windsor\, Ontario\, N8S 0A1\, Canada
ATTACH;FMTTYPE=image/jpeg:https://www.corvetteclubofwindsor.com/wp-content/uploads/2025/06/Buddys-Car-Show.jpg
END:VEVENT
BEGIN:VEVENT
DTSTART;TZID=America/Toronto:20250713T090000
DTEND;TZID=America/Toronto:20250713T140000
DTSTAMP:20260424T013210
CREATED:20250618T132847Z
LAST-MODIFIED:20250618T132847Z
UID:10302-1752397200-1752415200@www.corvetteclubofwindsor.com
SUMMARY:Niagara Corvette Club 2025 Show & Shine Car Show
DESCRIPTION:The Niagara Corvette Club is excited to host their annual Corvette Show & Shine on July 13\, 2025\, between 9am – 2pm at Brian Cullen Motors at 386 Ontario Street\, St. Catharines. Thay invite individuals\, clubs\, and businesses to make a difference by sponsoring a day filled with excitement\, community spirit\, and help us raise money for the Niagara Children’s Centre.  \nThe Niagara Corvette Club is one of the longest standing supporters of the Center. Since 1973\, they have donated over $450\,000 to support children and their families across the Niagara Region.  \nIt is through the generosity of the community\, providing sponsorship funds\, and or donating raffle prizes\, that we can continue to support this great cause. By becoming a Sponsor\, you’re not just supporting an event; you are empowering a community!  \n$20 per car registration fee. \nBrian Cullen Motors
URL:https://www.corvetteclubofwindsor.com/event/niagara-corvette-club-2025-show-shine-car-show/
LOCATION:Brian Cullen Motors\, 386 Ontario Street\, St. Catherines\, Ontario\, Canada
ATTACH;FMTTYPE=image/jpeg:https://www.corvetteclubofwindsor.com/wp-content/uploads/2025/06/Niagara-Show-2025.jpg
END:VEVENT
BEGIN:VEVENT
DTSTART;TZID=America/Toronto:20250713T090000
DTEND;TZID=America/Toronto:20250713T150000
DTSTAMP:20260424T013210
CREATED:20250618T130611Z
LAST-MODIFIED:20250618T131032Z
UID:10288-1752397200-1752418800@www.corvetteclubofwindsor.com
SUMMARY:Ciociaro Club Annual Car Show
DESCRIPTION:Set-up begins at 9:00 AM RAIN OR SHINE. \n$10.00 per participant. \nTrophies and prizes awarded. \nFood & refreshments available.
URL:https://www.corvetteclubofwindsor.com/event/ciociaro-club-annual-car-show/
LOCATION:Ciociaro Club of Windsor\, 3745 N Talbot Rd\, Oldcastle\, Ontario\, N0R 1L0\, Canada
ATTACH;FMTTYPE=image/jpeg:https://www.corvetteclubofwindsor.com/wp-content/uploads/2025/06/Ciociaro-Show-2025-2.jpg
END:VEVENT
BEGIN:VEVENT
DTSTART;TZID=UTC:20250717T183000
DTEND;TZID=UTC:20250717T200000
DTSTAMP:20260424T013210
CREATED:20241125T192250Z
LAST-MODIFIED:20241231T231525Z
UID:4043-1752777000-1752782400@www.corvetteclubofwindsor.com
SUMMARY:Monthly Meeting (Dinner at 5:00 pm)
DESCRIPTION:[vc_row][vc_column][vc_column_text css=””]Our general membership meetings are held every third Thursday from January to November.  Our membership meetings are held between 6:30 and 8:00pm. \nNote –  dinner is at 5:00pm. Please confirm your attendance (for dinner) by July 9th with Lynda Reaume. Mobile: (519) 977-4925 Email: lyndareaume@yahoo.com[/vc_column_text][/vc_column][/vc_row]
URL:https://www.corvetteclubofwindsor.com/event/monthly-meeting-7/
LOCATION:Cooper’s Hawk Vineyards\, 1425 Iler Rd\, Harrow\, Ontario\, N0R 1G0\, Canada
CATEGORIES:Club Meeting
ATTACH;FMTTYPE=image/jpeg:https://www.corvetteclubofwindsor.com/wp-content/uploads/2024/11/Coopers-Hawk-1.jpeg
END:VEVENT
BEGIN:VEVENT
DTSTART;TZID=America/Toronto:20250718T160000
DTEND;TZID=America/Toronto:20250718T200000
DTSTAMP:20260424T013210
CREATED:20250618T131723Z
LAST-MODIFIED:20250714T161943Z
UID:10297-1752854400-1752868800@www.corvetteclubofwindsor.com
SUMMARY:Belle River BIA Car Show
DESCRIPTION:Please join The Belle River BIA at the 22th Annual Belle River BIA Car Show Friday\, July 18th\, 2025! Prepare to be amazed by a stunning collection of vintage vehicles\, muscle cars\, and hot rods. Tell your fellow car lovers and make plans to attend this must-see event! \nThe Classic Cruise Committee is organizing the truly amazing Classic Cruise Car Show in the heart of Belle River! \n\nMembers can meet at Mike & Donna Giroux’s residence: \n1664 Caille Ave’ Belle River @ 3:00 PM \nMike will lead the group departing at 3:45 PM
URL:https://www.corvetteclubofwindsor.com/event/belle-river-bia-car-show/
LOCATION:Belle River\, Notre Dame Street\, Lakeshore\, Ontario\, N0R 1A0\, Canada
ATTACH;FMTTYPE=image/jpeg:https://www.corvetteclubofwindsor.com/wp-content/uploads/2025/06/Belle-River-Car-Show.jpg
END:VEVENT
BEGIN:VEVENT
DTSTART;TZID=America/Toronto:20250720T130000
DTEND;TZID=America/Toronto:20250720T160000
DTSTAMP:20260424T013210
CREATED:20250519T193323Z
LAST-MODIFIED:20250712T205645Z
UID:9787-1753016400-1753027200@www.corvetteclubofwindsor.com
SUMMARY:CCoW Summer BBQ
DESCRIPTION:This year we are featuring Porchetta from Romano’s. back by popular demand. The club again will be also providing water\, soft drinks and buns.\nWe have chosen to have a semi “Potluck” style event. We are going to create an Italian style BBQ. \n  \n\nWe will have a fun “Corn Hole” competition again this year\nWe would like a total of 6 contributors in each food category. Please make enough for only 12 people.\nSalads\, coleslaw\, veggie tray 6 total\nBeans style salads\, potato salad or baked beans 6 total\nDesserts Cookies\, baked goods etc.6 total\nWe only need a couple fruit tray’s 3 only medium size\nPlease let me know if you would like to participate in the BBQ no later than July 10\nAlso\, please let me know if you are interested in playing in the cornhole tourney. Prizes for the winners.\nIf you have access to a couple cornhole board games.\, we would like to borrow the game. Let Ed know.\n\nNote: The Town of Lasalle does not allow alcohol at this event!
URL:https://www.corvetteclubofwindsor.com/event/ccow-summer-bbq/
LOCATION:Vollmer Center\, 2121 Laurier Pkwy\, LaSalle\, Ontario\, N9J 0B4\, Canada
CATEGORIES:Social
ATTACH;FMTTYPE=image/jpeg:https://www.corvetteclubofwindsor.com/wp-content/uploads/2025/05/CCoW-BBQ-2024-e1747682199333.jpg
ORGANIZER;CN="Ed Jones":MAILTO:edljones@hotmail.com
END:VEVENT
BEGIN:VEVENT
DTSTART;TZID=America/Toronto:20250727T070000
DTEND;TZID=America/Toronto:20250727T150000
DTSTAMP:20260424T013210
CREATED:20250718T203626Z
LAST-MODIFIED:20250719T194659Z
UID:10369-1753599600-1753628400@www.corvetteclubofwindsor.com
SUMMARY:Amherstburg's 2025 Gone Car Crazy
DESCRIPTION:Amherstburg’s Gone Car Crazy Show is back for it’s 19th event on Sunday\, July 27\, 2025 from 10:00am – 3:00pm. \nFor one day only hundreds of classic cars of all shapes\, sizes\, from all different towns/cities and years descend upon the streets of downtown Amherstburg. \nStreet Rods\, trucks\, custom street machines\, sport cars and live entertainment. You won’t want to miss this free event. \n  \n  \nCLUB MEMBERS \nAs in the past years\, we will be meeting at North and Dalhousie no later than 07:00 AM. This will secure us our regular spot right on Dalhousie.
URL:https://www.corvetteclubofwindsor.com/event/amherstburgs-2025-gone-car-crazy/
LOCATION:Ontario
ATTACH;FMTTYPE=image/png:https://www.corvetteclubofwindsor.com/wp-content/uploads/2025/07/Gone-Car-Crazy.png
END:VEVENT
BEGIN:VEVENT
DTSTART;TZID=America/Toronto:20250729T180000
DTEND;TZID=America/Toronto:20250729T200000
DTSTAMP:20260424T013210
CREATED:20250623T101540Z
LAST-MODIFIED:20250623T101540Z
UID:10314-1753812000-1753819200@www.corvetteclubofwindsor.com
SUMMARY:Sponsor Dinner - Rivers Edge Tap & Table
DESCRIPTION:River’s Edge is in the historic Menard’s Tavern location in Olde Riverside.  Serving fabulous lake perch\, tender steaks\, seafood\, burgers and comfort food on the edge of Little River.  Enjoy the cozy yet fun atmosphere\, great food and lazy patio overlooking the river.
URL:https://www.corvetteclubofwindsor.com/event/sponsor-dinner-rivers-edge-tap-table/
LOCATION:River’s Edge Tap & Table\, 494 Riverdale Ave\, Windsor\, Ontario\, N8S4B6\, Canada
CATEGORIES:Social
ATTACH;FMTTYPE=image/jpeg:https://www.corvetteclubofwindsor.com/wp-content/uploads/2025/06/Rivers-Edge.jpeg
END:VEVENT
END:VCALENDAR