BEGIN:VCALENDAR
VERSION:2.0
PRODID:-//Corvette Club of Windsor - ECPv6.15.20//NONSGML v1.0//EN
CALSCALE:GREGORIAN
METHOD:PUBLISH
X-WR-CALNAME:Corvette Club of Windsor
X-ORIGINAL-URL:https://www.corvetteclubofwindsor.com
X-WR-CALDESC:Events for Corvette Club of Windsor
REFRESH-INTERVAL;VALUE=DURATION:PT1H
X-Robots-Tag:noindex
X-PUBLISHED-TTL:PT1H
BEGIN:VTIMEZONE
TZID:America/Toronto
BEGIN:DAYLIGHT
TZOFFSETFROM:-0500
TZOFFSETTO:-0400
TZNAME:EDT
DTSTART:20240310T070000
END:DAYLIGHT
BEGIN:STANDARD
TZOFFSETFROM:-0400
TZOFFSETTO:-0500
TZNAME:EST
DTSTART:20241103T060000
END:STANDARD
BEGIN:DAYLIGHT
TZOFFSETFROM:-0500
TZOFFSETTO:-0400
TZNAME:EDT
DTSTART:20250309T070000
END:DAYLIGHT
BEGIN:STANDARD
TZOFFSETFROM:-0400
TZOFFSETTO:-0500
TZNAME:EST
DTSTART:20251102T060000
END:STANDARD
BEGIN:DAYLIGHT
TZOFFSETFROM:-0500
TZOFFSETTO:-0400
TZNAME:EDT
DTSTART:20260308T070000
END:DAYLIGHT
BEGIN:STANDARD
TZOFFSETFROM:-0400
TZOFFSETTO:-0500
TZNAME:EST
DTSTART:20261101T060000
END:STANDARD
END:VTIMEZONE
BEGIN:VTIMEZONE
TZID:UTC
BEGIN:STANDARD
TZOFFSETFROM:+0000
TZOFFSETTO:+0000
TZNAME:UTC
DTSTART:20240101T000000
END:STANDARD
END:VTIMEZONE
BEGIN:VEVENT
DTSTART;TZID=America/Toronto:20250506T190000
DTEND;TZID=America/Toronto:20250506T203000
DTSTAMP:20260424T043920
CREATED:20241125T193500Z
LAST-MODIFIED:20241231T221604Z
UID:4060-1746558000-1746563400@www.corvetteclubofwindsor.com
SUMMARY:Executive Meeting
DESCRIPTION:Our Executive Committee meetings are held on the first Tuesday of the month\, from 7:00 pm to 8:30 pm.
URL:https://www.corvetteclubofwindsor.com/event/monthly-executive-meeting-5/
LOCATION:Cavalier Tool & Manufacturing Ltd\, 3450 Wheelton Dr\, Windsor\, Ontario\, N8W 5A7\, Canada
CATEGORIES:Club Meeting
ATTACH;FMTTYPE=image/jpeg:https://www.corvetteclubofwindsor.com/wp-content/uploads/2024/11/C4E5F375-C68C-4C00-8ACF-BB1374AD4BED.jpeg
END:VEVENT
BEGIN:VEVENT
DTSTART;TZID=UTC:20250515T183000
DTEND;TZID=UTC:20250515T200000
DTSTAMP:20260424T043920
CREATED:20241125T192049Z
LAST-MODIFIED:20241231T221701Z
UID:4038-1747333800-1747339200@www.corvetteclubofwindsor.com
SUMMARY:Monthly Meeting (Dinner at 5:00 pm)
DESCRIPTION:[vc_row][vc_column][vc_column_text css=””]Our general membership meetings are held every third Thursday from January to November.  Our membership meetings are held between 6:30 and 8:00pm. \nNote –  dinner is at 5:00pm. Please confirm your attendance (for dinner) by May 7tth with Lynda Reaume. Mobile: (519) 977-4925 Email: lyndareaume@yahoo.com[/vc_column_text][/vc_column][/vc_row]
URL:https://www.corvetteclubofwindsor.com/event/monthly-meeting-5/
LOCATION:Riverside Sportsman Club\, 10835 Riverside Dr E\, Windsor\, Ontario\, N8P 1A5\, Canada
CATEGORIES:Club Meeting
ATTACH;FMTTYPE=image/jpeg:https://www.corvetteclubofwindsor.com/wp-content/uploads/2024/11/IMG_5089.jpg
END:VEVENT
BEGIN:VEVENT
DTSTART;TZID=America/Toronto:20250518T110000
DTEND;TZID=America/Toronto:20250518T160000
DTSTAMP:20260424T043920
CREATED:20250513T210103Z
LAST-MODIFIED:20250513T210103Z
UID:9758-1747566000-1747584000@www.corvetteclubofwindsor.com
SUMMARY:Colasanti’s Yesterday & Today Car Show
DESCRIPTION:Take a stroll through time and compare makes and models of cars through the decades. 30 local vendors will be one site\, including food trucks and booths with fresh\, delicious treats.
URL:https://www.corvetteclubofwindsor.com/event/colasantis-yesterday-today-car-show/
LOCATION:Colasantis\, 1550 Road 3 East\, Kingsville\, Ontario\, N9Y 2E5\, Canada
CATEGORIES:Cruises & Trips
ATTACH;FMTTYPE=image/jpeg:https://www.corvetteclubofwindsor.com/wp-content/uploads/2025/05/Coasantis-Show-2025.jpg
END:VEVENT
BEGIN:VEVENT
DTSTART;TZID=America/Toronto:20250525T100000
DTEND;TZID=America/Toronto:20250525T140000
DTSTAMP:20260424T043920
CREATED:20250513T210311Z
LAST-MODIFIED:20250513T210311Z
UID:9761-1748167200-1748181600@www.corvetteclubofwindsor.com
SUMMARY:Crown Vettes Show & Shine
DESCRIPTION:Depart Lynda’s house Saturday @ 10:45 AM and drive to London\nLunch at Johnny Quest in Thamesville\nDinner at Vic’s in hotel\nStay at Four Points Sheraton Saturday Night\nShow Sunday @ Lambeth Legion
URL:https://www.corvetteclubofwindsor.com/event/crown-vettes-show-shine/
LOCATION:Royal Canadian Legion\, Branch 501\, 7097 Kilbourne Road\, London\, Ontario\, Canada
CATEGORIES:Cruises & Trips
ATTACH;FMTTYPE=image/jpeg:https://www.corvetteclubofwindsor.com/wp-content/uploads/2025/05/Crown-Vettes-SS.jpg
END:VEVENT
BEGIN:VEVENT
DTSTART;TZID=America/Toronto:20250527T180000
DTEND;TZID=America/Toronto:20250527T220000
DTSTAMP:20260424T043920
CREATED:20250320T143546Z
LAST-MODIFIED:20250320T143556Z
UID:9594-1748368800-1748383200@www.corvetteclubofwindsor.com
SUMMARY:OPEN HOUSE AT RICK FARROW'S
DESCRIPTION:Rick Farrow has generously offered to host an open house at his warehouse (which has had a large addition recently added)\, located at 2265 Ambassador Drive.  It will be held on Tuesday\, May 27\, 2025 6:00-10:00PM.\n\n The open house is by invitation only and the tickets will be $35 per person.  THIS IS LIMITED TO CLUB MEMBERS ONLY.\nOnly 80 tickets will be allocated for Corvette Club of Windsor members as there are others being invited as well.  There will be food and refreshments\, along with music.  This will feature Rick’s private car collection.\nThe proceeds from this event will benefit our charity…The Pediatric Oncology Unit at Windsor Regional Hospital.  These funds will be added to the funds that we raise at our waterfront show in June.  Additional donations will be accepted that evening.\nTICKETS WILL NEED TO BE PURCHASED FROM LYNDA…519-977-4925.  TIME IS OF THE ESSENCE!!!\nThis will be a one of a kind event!\nHope to see you all there.\nLynda Reaume (CCOW Activity and Show Director)\nSent From Lynda Reaume
URL:https://www.corvetteclubofwindsor.com/event/open-house-at-rick-farrows-2/
LOCATION:Rick Farrow’s\, 2265 Ambassador Drive\, Windsor\, Ontario\, N9C 2L6\, Canada
ATTACH;FMTTYPE=image/jpeg:https://www.corvetteclubofwindsor.com/wp-content/uploads/2025/02/IMG_5866.jpg
END:VEVENT
BEGIN:VEVENT
DTSTART;TZID=America/Toronto:20250531T103000
DTEND;TZID=America/Toronto:20250531T160000
DTSTAMP:20260424T043920
CREATED:20250526T163731Z
LAST-MODIFIED:20250526T163731Z
UID:9849-1748687400-1748707200@www.corvetteclubofwindsor.com
SUMMARY:Colten's Cruise For Keaton and Leona-Lynn In Support of Mental Health Awareness
DESCRIPTION:Recently\, Cory and Laurie Burdick lost their son\, Colten Burdick\, at the tender age of 20 years old to suicide. They are having a fundraiser to help support Mental Heath Awareness and start a Trust Fund for their two grandchildren\, Colten’s son and daughter. Keaton is 17 months old\, and Leona Lynn is 13 months old. \nThe fundraiser is a Poker Run for both Motorcycles and Muscle\, and Classic Cars. The proceeds will be going to Noah’s House Mental Health Foundation Inc\, located in Windsor and Trust funds for the two children. \nKevin Renaud will be leading a group from our club. Registration form is in the files section of our website. Please confirm with Kevin if you plan to attend – goaliedad43@gmail.com
URL:https://www.corvetteclubofwindsor.com/event/coltens-cruise-for-keaton-and-leona-lynn-in-support-of-mental-health-awareness/
LOCATION:Windsor Moose Lodge\, 777 Tecumseh Road W\, Windsor\, Ontario\, Canada
CATEGORIES:Cruises & Trips,Fundraiser,Social
ATTACH;FMTTYPE=image/jpeg:https://www.corvetteclubofwindsor.com/wp-content/uploads/2025/05/Coltons-Cruise-2025.jpg
ORGANIZER;CN="Kevin Renaud":MAILTO:goaliedad43@gmail.com
END:VEVENT
END:VCALENDAR