BEGIN:VCALENDAR
VERSION:2.0
PRODID:-//Corvette Club of Windsor - ECPv6.15.20//NONSGML v1.0//EN
CALSCALE:GREGORIAN
METHOD:PUBLISH
X-WR-CALNAME:Corvette Club of Windsor
X-ORIGINAL-URL:https://www.corvetteclubofwindsor.com
X-WR-CALDESC:Events for Corvette Club of Windsor
REFRESH-INTERVAL;VALUE=DURATION:PT1H
X-Robots-Tag:noindex
X-PUBLISHED-TTL:PT1H
BEGIN:VTIMEZONE
TZID:America/Toronto
BEGIN:DAYLIGHT
TZOFFSETFROM:-0500
TZOFFSETTO:-0400
TZNAME:EDT
DTSTART:20230312T070000
END:DAYLIGHT
BEGIN:STANDARD
TZOFFSETFROM:-0400
TZOFFSETTO:-0500
TZNAME:EST
DTSTART:20231105T060000
END:STANDARD
BEGIN:DAYLIGHT
TZOFFSETFROM:-0500
TZOFFSETTO:-0400
TZNAME:EDT
DTSTART:20240310T070000
END:DAYLIGHT
BEGIN:STANDARD
TZOFFSETFROM:-0400
TZOFFSETTO:-0500
TZNAME:EST
DTSTART:20241103T060000
END:STANDARD
BEGIN:DAYLIGHT
TZOFFSETFROM:-0500
TZOFFSETTO:-0400
TZNAME:EDT
DTSTART:20250309T070000
END:DAYLIGHT
BEGIN:STANDARD
TZOFFSETFROM:-0400
TZOFFSETTO:-0500
TZNAME:EST
DTSTART:20251102T060000
END:STANDARD
BEGIN:DAYLIGHT
TZOFFSETFROM:-0500
TZOFFSETTO:-0400
TZNAME:EDT
DTSTART:20260308T070000
END:DAYLIGHT
BEGIN:STANDARD
TZOFFSETFROM:-0400
TZOFFSETTO:-0500
TZNAME:EST
DTSTART:20261101T060000
END:STANDARD
END:VTIMEZONE
BEGIN:VTIMEZONE
TZID:UTC
BEGIN:STANDARD
TZOFFSETFROM:+0000
TZOFFSETTO:+0000
TZNAME:UTC
DTSTART:20240101T000000
END:STANDARD
END:VTIMEZONE
BEGIN:VEVENT
DTSTART;TZID=America/Toronto:20250518T110000
DTEND;TZID=America/Toronto:20250518T160000
DTSTAMP:20260423T190813
CREATED:20250513T210103Z
LAST-MODIFIED:20250513T210103Z
UID:9758-1747566000-1747584000@www.corvetteclubofwindsor.com
SUMMARY:Colasanti’s Yesterday & Today Car Show
DESCRIPTION:Take a stroll through time and compare makes and models of cars through the decades. 30 local vendors will be one site\, including food trucks and booths with fresh\, delicious treats.
URL:https://www.corvetteclubofwindsor.com/event/colasantis-yesterday-today-car-show/
LOCATION:Colasantis\, 1550 Road 3 East\, Kingsville\, Ontario\, N9Y 2E5\, Canada
CATEGORIES:Cruises & Trips
ATTACH;FMTTYPE=image/jpeg:https://www.corvetteclubofwindsor.com/wp-content/uploads/2025/05/Coasantis-Show-2025.jpg
END:VEVENT
BEGIN:VEVENT
DTSTART;TZID=UTC:20250515T183000
DTEND;TZID=UTC:20250515T200000
DTSTAMP:20260423T190813
CREATED:20241125T192049Z
LAST-MODIFIED:20241231T221701Z
UID:4038-1747333800-1747339200@www.corvetteclubofwindsor.com
SUMMARY:Monthly Meeting (Dinner at 5:00 pm)
DESCRIPTION:[vc_row][vc_column][vc_column_text css=””]Our general membership meetings are held every third Thursday from January to November.  Our membership meetings are held between 6:30 and 8:00pm. \nNote –  dinner is at 5:00pm. Please confirm your attendance (for dinner) by May 7tth with Lynda Reaume. Mobile: (519) 977-4925 Email: lyndareaume@yahoo.com[/vc_column_text][/vc_column][/vc_row]
URL:https://www.corvetteclubofwindsor.com/event/monthly-meeting-5/
LOCATION:Riverside Sportsman Club\, 10835 Riverside Dr E\, Windsor\, Ontario\, N8P 1A5\, Canada
CATEGORIES:Club Meeting
ATTACH;FMTTYPE=image/jpeg:https://www.corvetteclubofwindsor.com/wp-content/uploads/2024/11/IMG_5089.jpg
END:VEVENT
BEGIN:VEVENT
DTSTART;TZID=America/Toronto:20250506T190000
DTEND;TZID=America/Toronto:20250506T203000
DTSTAMP:20260423T190813
CREATED:20241125T193500Z
LAST-MODIFIED:20241231T221604Z
UID:4060-1746558000-1746563400@www.corvetteclubofwindsor.com
SUMMARY:Executive Meeting
DESCRIPTION:Our Executive Committee meetings are held on the first Tuesday of the month\, from 7:00 pm to 8:30 pm.
URL:https://www.corvetteclubofwindsor.com/event/monthly-executive-meeting-5/
LOCATION:Cavalier Tool & Manufacturing Ltd\, 3450 Wheelton Dr\, Windsor\, Ontario\, N8W 5A7\, Canada
CATEGORIES:Club Meeting
ATTACH;FMTTYPE=image/jpeg:https://www.corvetteclubofwindsor.com/wp-content/uploads/2024/11/C4E5F375-C68C-4C00-8ACF-BB1374AD4BED.jpeg
END:VEVENT
BEGIN:VEVENT
DTSTART;TZID=UTC:20250417T183000
DTEND;TZID=UTC:20250417T200000
DTSTAMP:20260423T190813
CREATED:20241125T192000Z
LAST-MODIFIED:20241231T221429Z
UID:4035-1744914600-1744920000@www.corvetteclubofwindsor.com
SUMMARY:Monthly Meeting (Dinner at 5:00 pm)
DESCRIPTION:[vc_row][vc_column][vc_column_text css=””]Our general membership meetings are held every third Thursday from January to November.  Our membership meetings are held between 6:30 and 8:00pm. \nNote –  dinner is at 5:00pm. Please confirm your attendance (for dinner) by April 9th with Lynda Reaume. Mobile: (519) 977-4925 Email: lyndareaume@yahoo.com[/vc_column_text][/vc_column][/vc_row]
URL:https://www.corvetteclubofwindsor.com/event/monthly-meeting-4/
LOCATION:Riverside Sportsman Club\, 10835 Riverside Dr E\, Windsor\, Ontario\, N8P 1A5\, Canada
CATEGORIES:Club Meeting
ATTACH;FMTTYPE=image/jpeg:https://www.corvetteclubofwindsor.com/wp-content/uploads/2024/11/IMG_5089.jpg
END:VEVENT
BEGIN:VEVENT
DTSTART;TZID=America/Toronto:20250410T180000
DTEND;TZID=America/Toronto:20250410T193000
DTSTAMP:20260423T190813
CREATED:20250207T001520Z
LAST-MODIFIED:20250208T013436Z
UID:9549-1744308000-1744313400@www.corvetteclubofwindsor.com
SUMMARY:Wolfhead Distillery & Restaurant (Club Dinner)
DESCRIPTION:[vc_row][vc_column][vc_column_text css=””]Club dinner at Wolfhead Distillery & restaurant. Please confirm your attendance by April 2nd  with Lynda Reaume. \nRendezvous points and Pre-order menu to be confirmed  later. \nMobile: (519) 977-4925 \nEmail: lyndareaume@yahoo.com \nPre-order menu \n[/vc_column_text][/vc_column][/vc_row]
URL:https://www.corvetteclubofwindsor.com/event/wolfhead-distillery-restaurant-club-dinner/
LOCATION:Wolfhead Distillery & Restaurant\, 7781 Howard Ave\, McGregor\, Ontario\, N0R 1J0\, Canada
ATTACH;FMTTYPE=image/jpeg:https://www.corvetteclubofwindsor.com/wp-content/uploads/2025/02/images.jpeg
END:VEVENT
BEGIN:VEVENT
DTSTART;TZID=America/Toronto:20250401T190000
DTEND;TZID=America/Toronto:20250401T203000
DTSTAMP:20260423T190813
CREATED:20241125T193443Z
LAST-MODIFIED:20241231T221325Z
UID:4058-1743534000-1743539400@www.corvetteclubofwindsor.com
SUMMARY:Executive Meeting
DESCRIPTION:Our Executive Committee meetings are held on the first Tuesday of the month\, from 7:00 pm to 8:30 pm.
URL:https://www.corvetteclubofwindsor.com/event/monthly-executive-meeting-4/
LOCATION:Cavalier Tool & Manufacturing Ltd\, 3450 Wheelton Dr\, Windsor\, Ontario\, N8W 5A7\, Canada
CATEGORIES:Club Meeting
ATTACH;FMTTYPE=image/jpeg:https://www.corvetteclubofwindsor.com/wp-content/uploads/2024/11/C4E5F375-C68C-4C00-8ACF-BB1374AD4BED.jpeg
END:VEVENT
BEGIN:VEVENT
DTSTART;TZID=UTC:20250320T183000
DTEND;TZID=UTC:20250320T200000
DTSTAMP:20260423T190813
CREATED:20241125T191627Z
LAST-MODIFIED:20241231T231309Z
UID:4033-1742495400-1742500800@www.corvetteclubofwindsor.com
SUMMARY:Monthly Meeting (Dinner at 5:00 pm)
DESCRIPTION:[vc_row][vc_column][vc_column_text css=””]Our general membership meetings are held every third Thursday from January to November.  Our membership meetings are held between 6:30 and 8:00pm. \nNote –  dinner is at 5:00pm. Please confirm your attendance (for dinner) by March 12th with Lynda Reaume. Mobile: (519) 977-4925 Email: lyndareaume@yahoo.com[/vc_column_text][/vc_column][/vc_row]
URL:https://www.corvetteclubofwindsor.com/event/monthly-meeting-3/
LOCATION:LA Town Grill\, 5975 Malden Rd Unit #5\, Windsor\, Ontario\, N9H 1S7\, Canada
CATEGORIES:Club Meeting
ATTACH;FMTTYPE=image/jpeg:https://www.corvetteclubofwindsor.com/wp-content/uploads/2024/11/la-grill-2.jpg
END:VEVENT
BEGIN:VEVENT
DTSTART;TZID=America/Toronto:20250311T174500
DTEND;TZID=America/Toronto:20250311T193000
DTSTAMP:20260423T190813
CREATED:20250206T012612Z
LAST-MODIFIED:20250206T012632Z
UID:9534-1741715100-1741721400@www.corvetteclubofwindsor.com
SUMMARY:River's Edge Tap & Table (Club Dinner)
DESCRIPTION:[vc_row][vc_column][vc_column_text css=””]Club dinner at River’s Edge Tap & Table. Please confirm your attendance  by March 4th with Lynda Reaume. \nMobile: (519) 977-4925 \nEmail: lyndareaume@yahoo.com[/vc_column_text][/vc_column][/vc_row]
URL:https://www.corvetteclubofwindsor.com/event/https-www-visitwindsoressex-com-places-rivers-edge-tap-table/
LOCATION:River’s Edge Tap & Table\, 494 Riverdale Ave\, Windsor\, Ontario\, N8S 4B6\, Canada
ATTACH;FMTTYPE=image/jpeg:https://www.corvetteclubofwindsor.com/wp-content/uploads/2025/02/bar-1-640x427-1.jpg
END:VEVENT
BEGIN:VEVENT
DTSTART;TZID=America/Toronto:20250304T190000
DTEND;TZID=America/Toronto:20250304T203000
DTSTAMP:20260423T190813
CREATED:20241125T193410Z
LAST-MODIFIED:20241231T221223Z
UID:4055-1741114800-1741120200@www.corvetteclubofwindsor.com
SUMMARY:Executive Meeting
DESCRIPTION:Our Executive Committee meetings are held on the first Tuesday of the month\, from 7:00 pm to 8:30 pm.
URL:https://www.corvetteclubofwindsor.com/event/monthly-executive-meeting-3/
LOCATION:Cavalier Tool & Manufacturing Ltd\, 3450 Wheelton Dr\, Windsor\, Ontario\, N8W 5A7\, Canada
CATEGORIES:Club Meeting
ATTACH;FMTTYPE=image/jpeg:https://www.corvetteclubofwindsor.com/wp-content/uploads/2024/11/C4E5F375-C68C-4C00-8ACF-BB1374AD4BED.jpeg
END:VEVENT
BEGIN:VEVENT
DTSTART;TZID=America/Toronto:20250225T174500
DTEND;TZID=America/Toronto:20250225T193000
DTSTAMP:20260423T190813
CREATED:20250111T011409Z
LAST-MODIFIED:20250111T012621Z
UID:9330-1740505500-1740511800@www.corvetteclubofwindsor.com
SUMMARY:Gilligan's Restaurant on Walker rd (Club Dinner)
DESCRIPTION:[vc_row][vc_column][vc_column_text css=””]Club dinner at Gilligan’s Restaurant on Walker rd. Please confirm your attendance  by February 18th with Lynda Reaume. \nMobile: (519) 977-4925 \nEmail: lyndareaume@yahoo.com[/vc_column_text][/vc_column][/vc_row]
URL:https://www.corvetteclubofwindsor.com/event/gilligans-restaurant-on-walker-rd-club-dinner/
LOCATION:Gilligan’s restaurant on Walker rd\, 1270 Walker rd\, windsor\, Ontario\, N8Y 4T4\, Canada
END:VEVENT
BEGIN:VEVENT
DTSTART;TZID=UTC:20250220T183000
DTEND;TZID=UTC:20250220T200000
DTSTAMP:20260423T190813
CREATED:20241125T191558Z
LAST-MODIFIED:20250111T001612Z
UID:4031-1740076200-1740081600@www.corvetteclubofwindsor.com
SUMMARY:Monthly Meeting with Guest Speaker Sharda Yadav (Dinner at 5:00 pm)
DESCRIPTION:[vc_row][vc_column][vc_column_text css=””]Our general membership meetings are held every third Thursday from January to November.  Our membership meetings are held between 6:30 and 8:00pm. \nNote –  dinner is at 5:00pm. Please confirm your attendance (for dinner) by February 12th with Phil or Dianne Luppke \, Email: philluppke@gmail.com or Mobile (519) 580 6424. \n  \nOur Special Guest Speaker will be Sharda Yadav\, Manager of Enterprise and Mission Promotional Products. Within Mission Promotional Program\, Sharda manages 3 departments. \nSharda: “All the proceeds from the sales of our merchandise\, after the expenses goes to Feed our hungry  and homeless guests at our Shelter”.[/vc_column_text][/vc_column][/vc_row]
URL:https://www.corvetteclubofwindsor.com/event/monthly-meeting-2/
LOCATION:LA Town Grill\, 5975 Malden Rd Unit #5\, Windsor\, Ontario\, N9H 1S7\, Canada
CATEGORIES:Club Meeting
ATTACH;FMTTYPE=image/jpeg:https://www.corvetteclubofwindsor.com/wp-content/uploads/2024/11/la-grill-.jpg
END:VEVENT
BEGIN:VEVENT
DTSTART;TZID=America/Toronto:20250211T174500
DTEND;TZID=America/Toronto:20250211T193000
DTSTAMP:20260423T190813
CREATED:20241204T162146Z
LAST-MODIFIED:20250111T001710Z
UID:7471-1739295900-1739302200@www.corvetteclubofwindsor.com
SUMMARY:Roma's Pizza House of Windsor (Club Dinner)
DESCRIPTION:[vc_row][vc_column][vc_column_text css=””]Club dinner at Roma’s Pizza House of Windsor. Please confirm your attendance  by February 4th with Lynda Reaume. \nMobile: (519) 977-4925 \nEmail: lyndareaume@yahoo.com[/vc_column_text][/vc_column][/vc_row]
URL:https://www.corvetteclubofwindsor.com/event/romas-pizza-house-of-windsor/
LOCATION:Roma’s Pizza House of Windsor\, 7805 Wyandotte St. East\, Windsor\, ON\, Windsor\, ON\, N8S1S8\, Canada
ATTACH;FMTTYPE=image/jpeg:https://www.corvetteclubofwindsor.com/wp-content/uploads/2024/12/IMG_5109.jpg
END:VEVENT
BEGIN:VEVENT
DTSTART;TZID=America/Toronto:20250204T190000
DTEND;TZID=America/Toronto:20250204T203000
DTSTAMP:20260423T190813
CREATED:20241125T193352Z
LAST-MODIFIED:20241231T221130Z
UID:4053-1738695600-1738701000@www.corvetteclubofwindsor.com
SUMMARY:Executive Meeting
DESCRIPTION:Our Executive Committee meetings are held on the first Tuesday of the month\, from 7:00 pm to 8:30 pm.
URL:https://www.corvetteclubofwindsor.com/event/monthly-executive-meeting-2/
LOCATION:Cavalier Tool & Manufacturing Ltd\, 3450 Wheelton Dr\, Windsor\, Ontario\, N8W 5A7\, Canada
CATEGORIES:Club Meeting
ATTACH;FMTTYPE=image/jpeg:https://www.corvetteclubofwindsor.com/wp-content/uploads/2024/11/C4E5F375-C68C-4C00-8ACF-BB1374AD4BED.jpeg
END:VEVENT
BEGIN:VEVENT
DTSTART;TZID=UTC:20250116T183000
DTEND;TZID=UTC:20250116T200000
DTSTAMP:20260423T190813
CREATED:20241020T030450Z
LAST-MODIFIED:20250111T012758Z
UID:70-1737052200-1737057600@www.corvetteclubofwindsor.com
SUMMARY:Monthly Meeting (Dinner at 5:00 pm)
DESCRIPTION:[vc_row][vc_column][vc_column_text css=””]Our general membership meetings are held every third Thursday from January to November.  Our membership meetings are held between 6:30 and 8:00pm. \nNote –  dinner is at 5:00 pm. Please confirm your attendance (for dinner) by January 8th with Lynda Reaume. Mobile: (519) 977-4925 Email: lyndareaume@yahoo.com \n[/vc_column_text][/vc_column][/vc_row]
URL:https://www.corvetteclubofwindsor.com/event/monthly-meeting/
LOCATION:LA Town Grill\, 5975 Malden Rd Unit #5\, Windsor\, Ontario\, N9H 1S7\, Canada
CATEGORIES:Club Meeting
ATTACH;FMTTYPE=image/jpeg:https://www.corvetteclubofwindsor.com/wp-content/uploads/2024/10/IMG_5088.jpg
END:VEVENT
BEGIN:VEVENT
DTSTART;TZID=America/Toronto:20241214T180000
DTEND;TZID=America/Toronto:20241214T180000
DTSTAMP:20260423T190813
CREATED:20241125T194025Z
LAST-MODIFIED:20241203T143427Z
UID:4070-1734199200-1734199200@www.corvetteclubofwindsor.com
SUMMARY:Christmas Party
DESCRIPTION:Our annual Christmas party!
URL:https://www.corvetteclubofwindsor.com/event/christmas-party/
LOCATION:Willistead Manor\, 1899 Niagara Street\, Windsor\, Ontario\, N8Y 2K7\, Canada
CATEGORIES:Social
ATTACH;FMTTYPE=image/jpeg:https://www.corvetteclubofwindsor.com/wp-content/uploads/2024/11/Willistead-Manor-2.jpeg
END:VEVENT
BEGIN:VEVENT
DTSTART;TZID=America/Toronto:20241203T190000
DTEND;TZID=America/Toronto:20241203T203000
DTSTAMP:20260423T190813
CREATED:20241129T204923Z
LAST-MODIFIED:20241129T233808Z
UID:7293-1733252400-1733257800@www.corvetteclubofwindsor.com
SUMMARY:Monthly Executive Meeting
DESCRIPTION:Our Executive Committee meetings are held on the first Tuesday of the month\, from 7:00 pm to 8:30 pm.
URL:https://www.corvetteclubofwindsor.com/event/monthly-executive-meeting-10/
LOCATION:Cavalier Tool & Manufacturing Ltd\, 3450 Wheelton Dr\, Windsor\, Ontario\, N8W 5A7\, Canada
CATEGORIES:Club Meeting
ATTACH;FMTTYPE=image/jpeg:https://www.corvetteclubofwindsor.com/wp-content/uploads/2024/11/C4E5F375-C68C-4C00-8ACF-BB1374AD4BED.jpeg
END:VEVENT
END:VCALENDAR