BEGIN:VCALENDAR
VERSION:2.0
PRODID:-//Corvette Club of Windsor - ECPv6.15.20//NONSGML v1.0//EN
CALSCALE:GREGORIAN
METHOD:PUBLISH
X-WR-CALNAME:Corvette Club of Windsor
X-ORIGINAL-URL:https://www.corvetteclubofwindsor.com
X-WR-CALDESC:Events for Corvette Club of Windsor
REFRESH-INTERVAL;VALUE=DURATION:PT1H
X-Robots-Tag:noindex
X-PUBLISHED-TTL:PT1H
BEGIN:VTIMEZONE
TZID:America/Toronto
BEGIN:DAYLIGHT
TZOFFSETFROM:-0500
TZOFFSETTO:-0400
TZNAME:EDT
DTSTART:20250309T070000
END:DAYLIGHT
BEGIN:STANDARD
TZOFFSETFROM:-0400
TZOFFSETTO:-0500
TZNAME:EST
DTSTART:20251102T060000
END:STANDARD
BEGIN:DAYLIGHT
TZOFFSETFROM:-0500
TZOFFSETTO:-0400
TZNAME:EDT
DTSTART:20260308T070000
END:DAYLIGHT
BEGIN:STANDARD
TZOFFSETFROM:-0400
TZOFFSETTO:-0500
TZNAME:EST
DTSTART:20261101T060000
END:STANDARD
BEGIN:DAYLIGHT
TZOFFSETFROM:-0500
TZOFFSETTO:-0400
TZNAME:EDT
DTSTART:20270314T070000
END:DAYLIGHT
BEGIN:STANDARD
TZOFFSETFROM:-0400
TZOFFSETTO:-0500
TZNAME:EST
DTSTART:20271107T060000
END:STANDARD
END:VTIMEZONE
BEGIN:VTIMEZONE
TZID:UTC
BEGIN:STANDARD
TZOFFSETFROM:+0000
TZOFFSETTO:+0000
TZNAME:UTC
DTSTART:20250101T000000
END:STANDARD
END:VTIMEZONE
BEGIN:VEVENT
DTSTART;TZID=America/Toronto:20260311T180000
DTEND;TZID=America/Toronto:20260311T210000
DTSTAMP:20260423T161130
CREATED:20260120T191528Z
LAST-MODIFIED:20260221T180342Z
UID:11272-1773252000-1773262800@www.corvetteclubofwindsor.com
SUMMARY:Movie Night at Rick Farrow's Warehouse
DESCRIPTION:We are happy to announce that we are going to have a movie night at Rick’s warehouse\, March 11th.\nOur movie night will be a fundraiser for our member Chuck Johnson\, who is currently waiting for medical treatment as most of you know.\nDoors will open at 6 o’clock\, and there will be pizza\, popcorn\, and pop/water. \nThe cost is $15. \nMovie will commence at 7 o’clock. From the responses I received\, the movie of choice will be “Gone in 60 seconds.” \nPlease bring a chair. \nPlease respond to Nicole before March 4th if you are going\,  519-996-2336 OR activity@corvetteclubofwindsor.com \n\n\n 
URL:https://www.corvetteclubofwindsor.com/event/movie-night-at-rick-farrows/
LOCATION:Rick Farrow’s\, 2265 Ambassador Drive\, Windsor\, Ontario\, N9C 2L6\, Canada
ATTACH;FMTTYPE=image/jpeg:https://www.corvetteclubofwindsor.com/wp-content/uploads/2026/01/71Vl0uUpoXL._SL1500_.jpg
END:VEVENT
BEGIN:VEVENT
DTSTART;TZID=America/Toronto:20260319T170000
DTEND;TZID=America/Toronto:20260319T200000
DTSTAMP:20260423T161130
CREATED:20251121T150743Z
LAST-MODIFIED:20260101T150143Z
UID:10680-1773939600-1773950400@www.corvetteclubofwindsor.com
SUMMARY:Monthly Meeting (Dinner at 5:00 pm) LA Town Grill
DESCRIPTION:[vc_row][vc_column][vc_column_text css=””]Our general membership meetings are held every third Thursday from January to November. \nOur membership meetings are held between 6:30 and 8:00pm. \nNote –  dinner is at 5:00pm. \nPLEASE RESPOND TO NICOLE IF YOU ARE GOING TO JOIN US FOR DINNER\, NO LATER THAN MARCH 12TH. YOU CAN REACH HER AT 519-996-2336 OR activity@corvetteclubofwindsor.com\n[/vc_column_text][/vc_column][/vc_row]
URL:https://www.corvetteclubofwindsor.com/event/monthly-meeting-dinner-at-500-pm-la-town-grill/
LOCATION:LA Town Grill\, 5975 Malden Rd Unit #5\, Windsor\, Ontario\, N9H 1S7\, Canada
ATTACH;FMTTYPE=image/jpeg:https://www.corvetteclubofwindsor.com/wp-content/uploads/2025/11/LATownGrill_0010_IMG_0032.jpg
END:VEVENT
BEGIN:VEVENT
DTSTART;TZID=America/Toronto:20260324T180000
DTEND;TZID=America/Toronto:20260324T200000
DTSTAMP:20260423T161130
CREATED:20260130T134314Z
LAST-MODIFIED:20260130T140806Z
UID:11375-1774375200-1774382400@www.corvetteclubofwindsor.com
SUMMARY:Sponsor Dinner - River's Edge Tap & Table
DESCRIPTION:Sponsor dinner at River’s Edge Tap & Table \n\nPLEASE RESPOND TO NICOLE IF YOU ARE GOING TO JOIN US FOR DINNER\, NO LATER THAN March 17th. \nYOU CAN REACH HER AT 519-996-2336 OR activity@corvetteclubofwindsor.com\n\n\n 
URL:https://www.corvetteclubofwindsor.com/event/sponsor-dinner-rivers-edge-tap-table-2/
LOCATION:River’s Edge Tap & Table\, 494 Riverdale Ave\, Windsor\, Ontario\, N8S4B6\, Canada
ATTACH;FMTTYPE=image/jpeg:https://www.corvetteclubofwindsor.com/wp-content/uploads/2026/01/IMG_9765.jpg
END:VEVENT
BEGIN:VEVENT
DTSTART;TZID=America/Toronto:20260409T173000
DTEND;TZID=America/Toronto:20260409T193000
DTSTAMP:20260423T161130
CREATED:20260313T162503Z
LAST-MODIFIED:20260313T165024Z
UID:11516-1775755800-1775763000@www.corvetteclubofwindsor.com
SUMMARY:Wolfhead Distillery Sponsor Dinner
DESCRIPTION:PLEASE RESPOND TO NICOLE IF YOU ARE GOING TO JOIN US FOR DINNER\, NO LATER THAN April 2nd. \nYOU CAN REACH HER AT 519-996-2336 OR activity@corvetteclubofwindsor.com\n  \n \nClick to see Menu pdf
URL:https://www.corvetteclubofwindsor.com/event/wolfhead-distillery-sponsor-dinner/
LOCATION:Wolfhead Distillery & Restaurant\, 7781 Howard Ave\, McGregor\, Ontario\, N0R 1J0\, Canada
ATTACH;FMTTYPE=image/png:https://www.corvetteclubofwindsor.com/wp-content/uploads/2026/03/wolfhead-rounded-B3nbDhaf.png
END:VEVENT
BEGIN:VEVENT
DTSTART;TZID=UTC:20260416T183000
DTEND;TZID=UTC:20260416T200000
DTSTAMP:20260423T161130
CREATED:20260120T231638Z
LAST-MODIFIED:20260120T231638Z
UID:11292-1776364200-1776369600@www.corvetteclubofwindsor.com
SUMMARY:Monthly Meeting (Dinner at 5:00 pm) Riverside Sportsmen Club
DESCRIPTION:[vc_row][vc_column][vc_column_text css=””]Our general membership meetings are held every third Thursday from January to November.  Our membership meetings are held between 6:30 and 8:00pm \nNote –  dinner is at 5:00pm. \nPLEASE RESPOND TO NICOLE IF YOU ARE GOING TO JOIN US FOR DINNER\, NO LATER THAN  APRIL 9TH. YOU CAN REACH HER AT 519-996-2336 OR activity@corvetteclubofwindsor.com \n[/vc_column_text][/vc_column][/vc_row]
URL:https://www.corvetteclubofwindsor.com/event/monthly-meeting-dinner-at-500-pm-riverside-sportsmen-club/
LOCATION:Riverside Sportsman Club\, 10835 Riverside Dr E\, Windsor\, Ontario\, N8P 1A5\, Canada
CATEGORIES:Club Meeting
ATTACH;FMTTYPE=image/jpeg:https://www.corvetteclubofwindsor.com/wp-content/uploads/2024/11/IMG_5089.jpg
END:VEVENT
BEGIN:VEVENT
DTSTART;TZID=America/Toronto:20260426T100000
DTEND;TZID=America/Toronto:20260426T140000
DTSTAMP:20260423T161130
CREATED:20260320T172135Z
LAST-MODIFIED:20260414T170115Z
UID:11566-1777197600-1777212000@www.corvetteclubofwindsor.com
SUMMARY:Car Show at Leamington GM
DESCRIPTION:Sunday April 26th Leamington GM dealership is having a car show 10 am -2pm. \nThey have graciously donated food to barbecue and all proceeds will be going to our charity. \nPlease RSVP for pre-registration if you could to give them an idea for numbers.\nThe email is on the bottom of the flyer.\n 
URL:https://www.corvetteclubofwindsor.com/event/car-show-at-leamington-gm/
LOCATION:Leamington GM\, 108 Erie St N.\, Leamington\, Ontario\, N8H 0A9\, Canada
ATTACH;FMTTYPE=image/jpeg:https://www.corvetteclubofwindsor.com/wp-content/uploads/2026/03/lgm.jpg
END:VEVENT
BEGIN:VEVENT
DTSTART;TZID=America/Toronto:20260503T120000
DTEND;TZID=America/Toronto:20260503T140000
DTSTAMP:20260423T161130
CREATED:20260129T160052Z
LAST-MODIFIED:20260129T170058Z
UID:11358-1777809600-1777816800@www.corvetteclubofwindsor.com
SUMMARY:Lunch at Molly and OJ's
DESCRIPTION:Cruise to Molly & OJ’s will led by Dan and Lynda Reaume. \nLeaving from their home at: \nTime: 10:30 am \n964 County Road 46\, RR#1 \nWoodslee\, Ontario \nPLEASE RESPOND TO NICOLE IF YOU ARE GOING TO JOIN US FOR LUNCH\, NO LATER THAN  APRIL 26th. \nYOU CAN REACH HER AT 519-996-2336 OR activity@corvetteclubofwindsor.co \nPlease bring your daily vehicle if it rains and you (some) choose not to drive your Corvette:) \n 
URL:https://www.corvetteclubofwindsor.com/event/lunch-at-molly-and-ojs/
LOCATION:Molly & OJ’s\, 875 Mariners Rd\, Erieau\, Ontario\, N0P 1A0\, Canada
ATTACH;FMTTYPE=image/jpeg:https://www.corvetteclubofwindsor.com/wp-content/uploads/2026/01/IMG_9756.jpg
END:VEVENT
BEGIN:VEVENT
DTSTART;TZID=America/Toronto:20260517T110000
DTEND;TZID=America/Toronto:20260517T160000
DTSTAMP:20260423T161130
CREATED:20260316T161305Z
LAST-MODIFIED:20260316T161719Z
UID:11540-1779015600-1779033600@www.corvetteclubofwindsor.com
SUMMARY:Yesterday & Today Carshow at Colasanti's
DESCRIPTION:  \nFlyer PDF
URL:https://www.corvetteclubofwindsor.com/event/yesterday-today-carshow-at-colasantis/
LOCATION:Colasanti’s\, 1550 road 3 East\, Kingsville\, Ontario\, N9Y 2E5\, Canada
ATTACH;FMTTYPE=image/jpeg:https://www.corvetteclubofwindsor.com/wp-content/uploads/2026/03/IMG_6367-scaled.jpeg
END:VEVENT
BEGIN:VEVENT
DTSTART;TZID=UTC:20260521T183000
DTEND;TZID=UTC:20260521T200000
DTSTAMP:20260423T161130
CREATED:20260121T001401Z
LAST-MODIFIED:20260121T001537Z
UID:11294-1779388200-1779393600@www.corvetteclubofwindsor.com
SUMMARY:Monthly Meeting (Dinner at 5:00 pm) Riverside Sportsmen Club
DESCRIPTION:[vc_row][vc_column][vc_column_text css=””]Our general membership meetings are held every third Thursday from January to November.  Our membership meetings are held between 6:30 and 8:00pm \nNote –  dinner is at 5:00pm. \nPLEASE RESPOND TO NICOLE IF YOU ARE GOING TO JOIN US FOR DINNER\, NO LATER THAN  May 14TH. YOU CAN REACH HER AT 519-996-2336 OR activity@corvetteclubofwindsor.com[/vc_column_text][/vc_column][/vc_row]
URL:https://www.corvetteclubofwindsor.com/event/monthly-meeting-dinner-at-500-pm-riverside-sportsmen-club-2/
LOCATION:Riverside Sportsman Club\, 10835 Riverside Dr E\, Windsor\, Ontario\, N8P 1A5\, Canada
CATEGORIES:Club Meeting
ATTACH;FMTTYPE=image/jpeg:https://www.corvetteclubofwindsor.com/wp-content/uploads/2024/11/IMG_5089.jpg
END:VEVENT
BEGIN:VEVENT
DTSTART;TZID=America/Toronto:20260524T110000
DTEND;TZID=America/Toronto:20260524T150000
DTSTAMP:20260423T161130
CREATED:20260220T141507Z
LAST-MODIFIED:20260220T142043Z
UID:11423-1779620400-1779634800@www.corvetteclubofwindsor.com
SUMMARY:GMAN'S CAR SHOW
DESCRIPTION:Download Registration Form GMAN PDF
URL:https://www.corvetteclubofwindsor.com/event/gmans-car-show/
LOCATION:Roma Club\, 19 Seaclift Drive East\, Leamington\, Ontario\, N8H 2L3\, Canada
ATTACH;FMTTYPE=image/jpeg:https://www.corvetteclubofwindsor.com/wp-content/uploads/2026/02/GMAN.jpeg
ORGANIZER;CN="Lynda Reaume":MAILTO:lyndareaume@yahoo.com
END:VEVENT
BEGIN:VEVENT
DTSTART;TZID=UTC:20260614T080000
DTEND;TZID=UTC:20260614T170000
DTSTAMP:20260423T161130
CREATED:20241124T041925Z
LAST-MODIFIED:20260106T142602Z
UID:3975-1781424000-1781456400@www.corvetteclubofwindsor.com
SUMMARY:Annual Waterfront Corvette Show June 14th 2026
DESCRIPTION:[vc_row][vc_column width=”3/4″][vc_column_text css=”” el_id=”More details to follow in early 2026 Flyer”]\n\n \nShow Flyer – 2026[/vc_column_text][vc_column_text css=””]\nThe Corvette Club of Windsor – Annual Waterfront Corvette Show\n  \nNOTE:  SECURITY WILL BE ONSITE SATURDAY EVENING (June 13th) FROM 6:00 PM to 6:00 AM\, FOR THOSE WANTING TO PARK THEIR CORVETTES OVERNIGHT BEFORE THE SHOW ON SUNDAY. \nWe will be at our original location at the Detroit River on the grass at Dieppe Park (Across the river from the GM Headquarters Building) \nProceeds benefit the Windsor Regional Hospital – Paediatric Oncology Satellite Unit. Since 2011 we have donated $180\,000.00. Thank you to our sponsors\, attendees and members![/vc_column_text][vc_tta_accordion active_section=”10″ collapsible_all=”true”][vc_tta_section title=”ONLINE Entry Form (Registration is Non – Refundable)” tab_id=”1732404616960-6bdfc48c-6ee3″][vc_column_text css=””]ONLINE REGISTRATION[/vc_column_text][vc_column_text css=””][/vc_column_text][/vc_tta_section][vc_tta_section title=”Printable Entry Form (Registration is Non-Refundable)” tab_id=”1737474767677-a5a3877f-d2c9″][vc_column_text css=”” el_id=”https://mail.google.com/mail/u/0?ui=2&ik=384f1ae985&attid=0.2&permmsgid=msg-f:1852892876516716990&th=19b6cc410fa171be&view=att&zw&disp=safe”]\nShow Registration – 2026[/vc_column_text][vc_column_text css=””]\n\n[/vc_column_text][vc_column_text css=””][/vc_column_text][/vc_tta_section][vc_tta_section title=”Hotel Information” tab_id=”1733526793198-483c6642-1dfb”][vc_column_text css=””]\n\n\n\nSee Link below for booking \n\n  \n\nStonecroft Inn\nLocated at 3032 Dougall Ave\n519-969-7600 or 1-800-665-6296\nwww.stonecroftinn.com\n5 queen rooms with a rate of $150 per night for Saturday night.\n5 king rooms with a rate of $160 per night for Saturday night.\nGroup sign in: Corvette2026\nPassword is: Windsor\nHotel must be booked by May 12th\, 2026 to receive group rate.\nParking is outside your room and is complimentary.\n\n\n\n\n[/vc_column_text][/vc_tta_section][/vc_tta_accordion][/vc_column][vc_column width=”1/4″][vc_widget_sidebar sidebar_id=”hb-default-sidebar”][/vc_column][/vc_row]
URL:https://www.corvetteclubofwindsor.com/event/annual-waterfront-corvette-show-2026/
LOCATION:Dieppe Park\, 78 Riverside Drive West\, Windsor\, Ontario\, N9A 0A3\, Canada
CATEGORIES:Fundraiser
ATTACH;FMTTYPE=image/jpeg:https://www.corvetteclubofwindsor.com/wp-content/uploads/2024/11/CCOW-Show-Flyer-short.jpg
ORGANIZER;CN="Lynda Reaume":MAILTO:lyndareaume@yahoo.com
END:VEVENT
BEGIN:VEVENT
DTSTART;TZID=America/Toronto:20260618T170000
DTEND;TZID=America/Toronto:20260618T200000
DTSTAMP:20260423T161130
CREATED:20260317T001905Z
LAST-MODIFIED:20260317T002014Z
UID:11551-1781802000-1781812800@www.corvetteclubofwindsor.com
SUMMARY:Monthly meeting
DESCRIPTION:More details to follow\, food etc.
URL:https://www.corvetteclubofwindsor.com/event/monthly-meeting-10/
LOCATION:Rick Farrow’s\, 2265 Ambassador Drive\, Windsor\, Ontario\, N9C 2L6\, Canada
ATTACH;FMTTYPE=image/webp:https://www.corvetteclubofwindsor.com/wp-content/uploads/2026/03/2025-12-30.webp
END:VEVENT
BEGIN:VEVENT
DTSTART;TZID=UTC:20260716T183000
DTEND;TZID=UTC:20260716T200000
DTSTAMP:20260423T161130
CREATED:20260227T131311Z
LAST-MODIFIED:20260227T131421Z
UID:11466-1784226600-1784232000@www.corvetteclubofwindsor.com
SUMMARY:Monthly Meeting (Dinner at 5:00 pm)
DESCRIPTION:Our general membership meetings are held every third Thursday from January to November.  Our membership meetings are held between 6:30 and 8:00pm \nNote –  dinner is at 5:00pm. \nPLEASE RESPOND TO NICOLE IF YOU ARE GOING TO JOIN US FOR DINNER\, NO LATER THAN  JULY  9TH. YOU CAN REACH HER AT 519-996-2336 OR activity@corvetteclubofwindsor.com \n\n\n\n\n\nLYNDA REAUME WILL BE LEADING A GROUP DEPARTING AT 4:30 FROM HER HOUSE – 964 COUNTY ROAD 46\, WOODSLEE
URL:https://www.corvetteclubofwindsor.com/event/monthly-meeting-dinner-at-500-pm-2/
LOCATION:Cooper’s Hawk Vineyards\, 1425 Iler Rd\, Harrow\, Ontario\, N0R 1G0\, Canada
CATEGORIES:Club Meeting
ATTACH;FMTTYPE=image/jpeg:https://www.corvetteclubofwindsor.com/wp-content/uploads/2024/11/IMG_5090.jpg
END:VEVENT
BEGIN:VEVENT
DTSTART;TZID=UTC:20260820T183000
DTEND;TZID=UTC:20260820T200000
DTSTAMP:20260423T161130
CREATED:20260227T132011Z
LAST-MODIFIED:20260227T133226Z
UID:11472-1787250600-1787256000@www.corvetteclubofwindsor.com
SUMMARY:Monthly Meeting (Dinner at 5:00 pm)
DESCRIPTION:Our general membership meetings are held every third Thursday from January to November.  Our membership meetings are held between 6:30 and 8:00pm \nNote –  dinner is at 5:00pm. \nPLEASE RESPOND TO NICOLE IF YOU ARE GOING TO JOIN US FOR DINNER\, NO LATER THAN  AUGUST 13TH. YOU CAN REACH HER AT 519-996-2336 OR activity@corvetteclubofwindsor.com \n\n\n\n\n\nLYNDA REAUME WILL BE LEADING A GROUP DEPARTING AT 4:30 FROM HER HOUSE – 964 COUNTY ROAD 46\, WOODSLEE
URL:https://www.corvetteclubofwindsor.com/event/monthly-meeting-dinner-at-500-pm-3/
LOCATION:Cooper’s Hawk Vineyards\, 1425 Iler Rd\, Harrow\, Ontario\, N0R 1G0\, Canada
CATEGORIES:Club Meeting
ATTACH;FMTTYPE=image/png:https://www.corvetteclubofwindsor.com/wp-content/uploads/2026/02/Coopers-Hawk.png
END:VEVENT
BEGIN:VEVENT
DTSTART;TZID=UTC:20260917T183000
DTEND;TZID=UTC:20260917T200000
DTSTAMP:20260423T161130
CREATED:20260227T132414Z
LAST-MODIFIED:20260228T204537Z
UID:11474-1789669800-1789675200@www.corvetteclubofwindsor.com
SUMMARY:Monthly Meeting (Dinner at 5:00 pm)
DESCRIPTION:Our general membership meetings are held every third Thursday from January to November.  Our membership meetings are held between 6:30 and 8:00pm \nNote –  dinner is at 5:00pm. \nPLEASE RESPOND TO NICOLE IF YOU ARE GOING TO JOIN US FOR DINNER\, NO LATER THAN  SEPTEMBER 10TH. YOU CAN REACH HER AT 519-996-2336 OR activity@corvetteclubofwindsor.com \n\n\n\n\n\nLYNDA REAUME WILL BE LEADING A GROUP DEPARTING AT 4:30 FROM HER HOUSE – 964 COUNTY ROAD 46\, WOODSLEE
URL:https://www.corvetteclubofwindsor.com/event/monthly-meeting-dinner-at-500-pm-4/
LOCATION:Cooper’s Hawk Vineyards\, 1425 Iler Rd\, Harrow\, Ontario\, N0R 1G0\, Canada
CATEGORIES:Club Meeting
ATTACH;FMTTYPE=image/jpeg:https://www.corvetteclubofwindsor.com/wp-content/uploads/2026/02/logo-coopers-hawk.jpg
END:VEVENT
BEGIN:VEVENT
DTSTART;TZID=UTC:20261015T183000
DTEND;TZID=UTC:20261015T200000
DTSTAMP:20260423T161130
CREATED:20260416T161642Z
LAST-MODIFIED:20260416T163339Z
UID:11638-1792089000-1792094400@www.corvetteclubofwindsor.com
SUMMARY:Monthly Meeting (Dinner at 5:00 pm)
DESCRIPTION:Our general membership meetings are held every third Thursday from January to November.  Our membership meetings are held between 6:30 and 8:00pm \nNote –  dinner is at 5:00pm. \nPLEASE RESPOND TO NICOLE IF YOU ARE GOING TO JOIN US FOR DINNER\, NO LATER THAN  OCTOBER 8TH. YOU CAN REACH HER AT 519-996-2336 OR activity@corvetteclubofwindsor.com \n\n\n\n\n\nLYNDA REAUME WILL BE LEADING A GROUP DEPARTING AT 4:30 FROM HER HOUSE – 964 COUNTY ROAD 46\, WOODSLEE
URL:https://www.corvetteclubofwindsor.com/event/monthly-meeting-dinner-at-500-pm-5/
LOCATION:Cooper’s Hawk Vineyards\, 1425 Iler Rd\, Harrow\, Ontario\, N0R 1G0\, Canada
CATEGORIES:Club Meeting
ATTACH;FMTTYPE=image/jpeg:https://www.corvetteclubofwindsor.com/wp-content/uploads/2026/04/r781-Coopers-Hawk-Vineyards-and-The-Vines-Restaurant-Canada-meals-2025-08.jpg
END:VEVENT
END:VCALENDAR