BEGIN:VCALENDAR
VERSION:2.0
PRODID:-//Corvette Club of Windsor - ECPv6.15.20//NONSGML v1.0//EN
CALSCALE:GREGORIAN
METHOD:PUBLISH
X-WR-CALNAME:Corvette Club of Windsor
X-ORIGINAL-URL:https://www.corvetteclubofwindsor.com
X-WR-CALDESC:Events for Corvette Club of Windsor
REFRESH-INTERVAL;VALUE=DURATION:PT1H
X-Robots-Tag:noindex
X-PUBLISHED-TTL:PT1H
BEGIN:VTIMEZONE
TZID:America/Toronto
BEGIN:DAYLIGHT
TZOFFSETFROM:-0500
TZOFFSETTO:-0400
TZNAME:EDT
DTSTART:20240310T070000
END:DAYLIGHT
BEGIN:STANDARD
TZOFFSETFROM:-0400
TZOFFSETTO:-0500
TZNAME:EST
DTSTART:20241103T060000
END:STANDARD
BEGIN:DAYLIGHT
TZOFFSETFROM:-0500
TZOFFSETTO:-0400
TZNAME:EDT
DTSTART:20250309T070000
END:DAYLIGHT
BEGIN:STANDARD
TZOFFSETFROM:-0400
TZOFFSETTO:-0500
TZNAME:EST
DTSTART:20251102T060000
END:STANDARD
BEGIN:DAYLIGHT
TZOFFSETFROM:-0500
TZOFFSETTO:-0400
TZNAME:EDT
DTSTART:20260308T070000
END:DAYLIGHT
BEGIN:STANDARD
TZOFFSETFROM:-0400
TZOFFSETTO:-0500
TZNAME:EST
DTSTART:20261101T060000
END:STANDARD
END:VTIMEZONE
BEGIN:VEVENT
DTSTART;VALUE=DATE:20250915
DTEND;VALUE=DATE:20250918
DTSTAMP:20260424T041956
CREATED:20250818T214115Z
LAST-MODIFIED:20250818T214115Z
UID:10451-1757894400-1758153599@www.corvetteclubofwindsor.com
SUMMARY:WETRA Volunteer Days with the Corvette Club of Windsor
DESCRIPTION:WETRA (Windsor-Essex Therapeutic Riding Association) is a local non-profit that has been changing lives since 1973 by offering therapeutic horseback riding and equine programs for people with physical\, cognitive\, and emotional challenges. Through the power of horses\, riders gain confidence\, strength\, and independence in a fun and supportive environment. WETRA also relies on volunteers to make these experiences possible\, whether it’s helping with lessons\, supporting special events\, or lending a hand around the farm. \nThe Corvette Club of Windsor is lending a hand this fall\, and we’re looking for volunteers on September 15th\, 16th\, and 17th (any or all days) to help with a wall-painting project at WETRA. It’s a great way to support an amazing local organization\, enjoy some camaraderie with fellow club members\, and make a visible difference in the community. \nPlease contact Lynda Reaume if you can help out: lyndareaume@yahoo.com – 519.977.4925
URL:https://www.corvetteclubofwindsor.com/event/wetra-volunteer-days-with-the-corvette-club-of-windsor/
LOCATION:WETRA\, 3323 North Malden Rd\, Essex\, Ontario\, N8M 2X8\, Canada
CATEGORIES:Car Shows,Fundraiser,Social
ATTACH;FMTTYPE=image/png:https://www.corvetteclubofwindsor.com/wp-content/uploads/2025/08/WETRA-Logo-jpg_resized-200pxwidth.png
ORGANIZER;CN="Lynda Reaume":MAILTO:lyndareaume@yahoo.com
END:VEVENT
END:VCALENDAR