BEGIN:VCALENDAR
VERSION:2.0
PRODID:-//Corvette Club of Windsor - ECPv6.15.20//NONSGML v1.0//EN
CALSCALE:GREGORIAN
METHOD:PUBLISH
X-ORIGINAL-URL:https://www.corvetteclubofwindsor.com
X-WR-CALDESC:Events for Corvette Club of Windsor
REFRESH-INTERVAL;VALUE=DURATION:PT1H
X-Robots-Tag:noindex
X-PUBLISHED-TTL:PT1H
BEGIN:VTIMEZONE
TZID:America/Toronto
BEGIN:DAYLIGHT
TZOFFSETFROM:-0500
TZOFFSETTO:-0400
TZNAME:EDT
DTSTART:20240310T070000
END:DAYLIGHT
BEGIN:STANDARD
TZOFFSETFROM:-0400
TZOFFSETTO:-0500
TZNAME:EST
DTSTART:20241103T060000
END:STANDARD
BEGIN:DAYLIGHT
TZOFFSETFROM:-0500
TZOFFSETTO:-0400
TZNAME:EDT
DTSTART:20250309T070000
END:DAYLIGHT
BEGIN:STANDARD
TZOFFSETFROM:-0400
TZOFFSETTO:-0500
TZNAME:EST
DTSTART:20251102T060000
END:STANDARD
BEGIN:DAYLIGHT
TZOFFSETFROM:-0500
TZOFFSETTO:-0400
TZNAME:EDT
DTSTART:20260308T070000
END:DAYLIGHT
BEGIN:STANDARD
TZOFFSETFROM:-0400
TZOFFSETTO:-0500
TZNAME:EST
DTSTART:20261101T060000
END:STANDARD
END:VTIMEZONE
BEGIN:VEVENT
DTSTART;TZID=America/Toronto:20250531T103000
DTEND;TZID=America/Toronto:20250531T160000
DTSTAMP:20260424T105955
CREATED:20250526T163731Z
LAST-MODIFIED:20250526T163731Z
UID:9849-1748687400-1748707200@www.corvetteclubofwindsor.com
SUMMARY:Colten's Cruise For Keaton and Leona-Lynn In Support of Mental Health Awareness
DESCRIPTION:Recently\, Cory and Laurie Burdick lost their son\, Colten Burdick\, at the tender age of 20 years old to suicide. They are having a fundraiser to help support Mental Heath Awareness and start a Trust Fund for their two grandchildren\, Colten’s son and daughter. Keaton is 17 months old\, and Leona Lynn is 13 months old. \nThe fundraiser is a Poker Run for both Motorcycles and Muscle\, and Classic Cars. The proceeds will be going to Noah’s House Mental Health Foundation Inc\, located in Windsor and Trust funds for the two children. \nKevin Renaud will be leading a group from our club. Registration form is in the files section of our website. Please confirm with Kevin if you plan to attend – goaliedad43@gmail.com
URL:https://www.corvetteclubofwindsor.com/event/coltens-cruise-for-keaton-and-leona-lynn-in-support-of-mental-health-awareness/
LOCATION:Windsor Moose Lodge\, 777 Tecumseh Road W\, Windsor\, Ontario\, Canada
CATEGORIES:Cruises & Trips,Fundraiser,Social
ATTACH;FMTTYPE=image/jpeg:https://www.corvetteclubofwindsor.com/wp-content/uploads/2025/05/Coltons-Cruise-2025.jpg
ORGANIZER;CN="Kevin Renaud":MAILTO:goaliedad43@gmail.com
END:VEVENT
END:VCALENDAR