BEGIN:VCALENDAR
VERSION:2.0
PRODID:-//Corvette Club of Windsor - ECPv6.15.20//NONSGML v1.0//EN
CALSCALE:GREGORIAN
METHOD:PUBLISH
X-WR-CALNAME:Corvette Club of Windsor
X-ORIGINAL-URL:https://www.corvetteclubofwindsor.com
X-WR-CALDESC:Events for Corvette Club of Windsor
REFRESH-INTERVAL;VALUE=DURATION:PT1H
X-Robots-Tag:noindex
X-PUBLISHED-TTL:PT1H
BEGIN:VTIMEZONE
TZID:America/Toronto
BEGIN:DAYLIGHT
TZOFFSETFROM:-0500
TZOFFSETTO:-0400
TZNAME:EDT
DTSTART:20240310T070000
END:DAYLIGHT
BEGIN:STANDARD
TZOFFSETFROM:-0400
TZOFFSETTO:-0500
TZNAME:EST
DTSTART:20241103T060000
END:STANDARD
BEGIN:DAYLIGHT
TZOFFSETFROM:-0500
TZOFFSETTO:-0400
TZNAME:EDT
DTSTART:20250309T070000
END:DAYLIGHT
BEGIN:STANDARD
TZOFFSETFROM:-0400
TZOFFSETTO:-0500
TZNAME:EST
DTSTART:20251102T060000
END:STANDARD
BEGIN:DAYLIGHT
TZOFFSETFROM:-0500
TZOFFSETTO:-0400
TZNAME:EDT
DTSTART:20260308T070000
END:DAYLIGHT
BEGIN:STANDARD
TZOFFSETFROM:-0400
TZOFFSETTO:-0500
TZNAME:EST
DTSTART:20261101T060000
END:STANDARD
END:VTIMEZONE
BEGIN:VTIMEZONE
TZID:UTC
BEGIN:STANDARD
TZOFFSETFROM:+0000
TZOFFSETTO:+0000
TZNAME:UTC
DTSTART:20240101T000000
END:STANDARD
END:VTIMEZONE
BEGIN:VEVENT
DTSTART;TZID=America/Toronto:20250612T190000
DTEND;TZID=America/Toronto:20250612T203000
DTSTAMP:20260424T070023
CREATED:20241125T193517Z
LAST-MODIFIED:20250513T203046Z
UID:4062-1749754800-1749760200@www.corvetteclubofwindsor.com
SUMMARY:Executive Meeting
DESCRIPTION:Our Executive Committee meetings are held on the first Tuesday of the month\, from 7:00 pm to 8:30 pm.
URL:https://www.corvetteclubofwindsor.com/event/monthly-executive-meeting-6/
LOCATION:Cavalier Tool & Manufacturing Ltd\, 3450 Wheelton Dr\, Windsor\, Ontario\, N8W 5A7\, Canada
CATEGORIES:Club Meeting
ATTACH;FMTTYPE=image/jpeg:https://www.corvetteclubofwindsor.com/wp-content/uploads/2024/11/C4E5F375-C68C-4C00-8ACF-BB1374AD4BED.jpeg
END:VEVENT
BEGIN:VEVENT
DTSTART;TZID=UTC:20250619T183000
DTEND;TZID=UTC:20250619T200000
DTSTAMP:20260424T070023
CREATED:20241125T192212Z
LAST-MODIFIED:20250519T205446Z
UID:4040-1750357800-1750363200@www.corvetteclubofwindsor.com
SUMMARY:Monthly Meeting (Dinner at 5:00 pm)
DESCRIPTION:[vc_row][vc_column][vc_column_text css=””]Our June meeting will feature a round table chat with some Ron Fellows Corvette Owners School graduates. Join us and see some video and hear the club members description of this experience. \nNote –  dinner is at 5:00pm. Please confirm your attendance (for dinner) by June 11th to  Phil or Dianne Luppke – philluppke@gmail.com or Mobile (519) 580 6424[/vc_column_text][/vc_column][/vc_row][vc_row][vc_column][vc_separator css=””][/vc_column][/vc_row][vc_row][vc_column][vc_single_image image=”9801″ css=””][/vc_column][/vc_row]
URL:https://www.corvetteclubofwindsor.com/event/monthly-meeting-6/
LOCATION:Cooper’s Hawk Vineyards\, 1425 Iler Rd\, Harrow\, Ontario\, N0R 1G0\, Canada
CATEGORIES:Club Meeting
ATTACH;FMTTYPE=image/jpeg:https://www.corvetteclubofwindsor.com/wp-content/uploads/2024/11/IMG_5090.jpg
END:VEVENT
END:VCALENDAR