BEGIN:VCALENDAR
VERSION:2.0
PRODID:-//Corvette Club of Windsor - ECPv6.15.20//NONSGML v1.0//EN
CALSCALE:GREGORIAN
METHOD:PUBLISH
X-WR-CALNAME:Corvette Club of Windsor
X-ORIGINAL-URL:https://www.corvetteclubofwindsor.com
X-WR-CALDESC:Events for Corvette Club of Windsor
REFRESH-INTERVAL;VALUE=DURATION:PT1H
X-Robots-Tag:noindex
X-PUBLISHED-TTL:PT1H
BEGIN:VTIMEZONE
TZID:America/Toronto
BEGIN:DAYLIGHT
TZOFFSETFROM:-0500
TZOFFSETTO:-0400
TZNAME:EDT
DTSTART:20250309T070000
END:DAYLIGHT
BEGIN:STANDARD
TZOFFSETFROM:-0400
TZOFFSETTO:-0500
TZNAME:EST
DTSTART:20251102T060000
END:STANDARD
BEGIN:DAYLIGHT
TZOFFSETFROM:-0500
TZOFFSETTO:-0400
TZNAME:EDT
DTSTART:20260308T070000
END:DAYLIGHT
BEGIN:STANDARD
TZOFFSETFROM:-0400
TZOFFSETTO:-0500
TZNAME:EST
DTSTART:20261101T060000
END:STANDARD
BEGIN:DAYLIGHT
TZOFFSETFROM:-0500
TZOFFSETTO:-0400
TZNAME:EDT
DTSTART:20270314T070000
END:DAYLIGHT
BEGIN:STANDARD
TZOFFSETFROM:-0400
TZOFFSETTO:-0500
TZNAME:EST
DTSTART:20271107T060000
END:STANDARD
END:VTIMEZONE
BEGIN:VEVENT
DTSTART;TZID=America/Toronto:20260324T180000
DTEND;TZID=America/Toronto:20260324T200000
DTSTAMP:20260423T143150
CREATED:20260130T134314Z
LAST-MODIFIED:20260130T140806Z
UID:11375-1774375200-1774382400@www.corvetteclubofwindsor.com
SUMMARY:Sponsor Dinner - River's Edge Tap & Table
DESCRIPTION:Sponsor dinner at River’s Edge Tap & Table \n\nPLEASE RESPOND TO NICOLE IF YOU ARE GOING TO JOIN US FOR DINNER\, NO LATER THAN March 17th. \nYOU CAN REACH HER AT 519-996-2336 OR activity@corvetteclubofwindsor.com\n\n\n 
URL:https://www.corvetteclubofwindsor.com/event/sponsor-dinner-rivers-edge-tap-table-2/
LOCATION:River’s Edge Tap & Table\, 494 Riverdale Ave\, Windsor\, Ontario\, N8S4B6\, Canada
ATTACH;FMTTYPE=image/jpeg:https://www.corvetteclubofwindsor.com/wp-content/uploads/2026/01/IMG_9765.jpg
END:VEVENT
END:VCALENDAR