BEGIN:VCALENDAR
VERSION:2.0
PRODID:-//Corvette Club of Windsor - ECPv6.15.20//NONSGML v1.0//EN
CALSCALE:GREGORIAN
METHOD:PUBLISH
X-WR-CALNAME:Corvette Club of Windsor
X-ORIGINAL-URL:https://www.corvetteclubofwindsor.com
X-WR-CALDESC:Events for Corvette Club of Windsor
REFRESH-INTERVAL;VALUE=DURATION:PT1H
X-Robots-Tag:noindex
X-PUBLISHED-TTL:PT1H
BEGIN:VTIMEZONE
TZID:America/Toronto
BEGIN:DAYLIGHT
TZOFFSETFROM:-0500
TZOFFSETTO:-0400
TZNAME:EDT
DTSTART:20250309T070000
END:DAYLIGHT
BEGIN:STANDARD
TZOFFSETFROM:-0400
TZOFFSETTO:-0500
TZNAME:EST
DTSTART:20251102T060000
END:STANDARD
BEGIN:DAYLIGHT
TZOFFSETFROM:-0500
TZOFFSETTO:-0400
TZNAME:EDT
DTSTART:20260308T070000
END:DAYLIGHT
BEGIN:STANDARD
TZOFFSETFROM:-0400
TZOFFSETTO:-0500
TZNAME:EST
DTSTART:20261101T060000
END:STANDARD
BEGIN:DAYLIGHT
TZOFFSETFROM:-0500
TZOFFSETTO:-0400
TZNAME:EDT
DTSTART:20270314T070000
END:DAYLIGHT
BEGIN:STANDARD
TZOFFSETFROM:-0400
TZOFFSETTO:-0500
TZNAME:EST
DTSTART:20271107T060000
END:STANDARD
END:VTIMEZONE
BEGIN:VEVENT
DTSTART;TZID=America/Toronto:20260115T170000
DTEND;TZID=America/Toronto:20260115T200000
DTSTAMP:20260423T172550
CREATED:20251121T145207Z
LAST-MODIFIED:20260101T145240Z
UID:10671-1768496400-1768507200@www.corvetteclubofwindsor.com
SUMMARY:Monthly Meeting (Dinner at 5:00 pm) LA Town Grill
DESCRIPTION:[vc_row][vc_column][vc_column_text css=””]Our general membership meetings are held every third Thursday from January to November. \nOur membership meetings are held between 6:30 and 8:00pm. \nNote –  dinner is at 5:00pm \nPLEASE RESPOND TO NICOLE IF YOU ARE GOING TO JOIN US FOR DINNER\, NO LATER THAN JANUARY 7TH. YOU CAN REACH HER AT 519-996-2336 OR activity@corvetteclubofwindsor.com \n[/vc_column_text][/vc_column][/vc_row]
URL:https://www.corvetteclubofwindsor.com/event/monthly-meeting-dinner-at-500-pmla-town-grill/
LOCATION:LA Town Grill\, 5975 Malden Rd Unit #5\, Windsor\, Ontario\, N9H 1S7\, Canada
ATTACH;FMTTYPE=image/jpeg:https://www.corvetteclubofwindsor.com/wp-content/uploads/2025/11/la-grill-2.jpg
END:VEVENT
END:VCALENDAR