BEGIN:VCALENDAR
VERSION:2.0
PRODID:-//Corvette Club of Windsor - ECPv6.15.20//NONSGML v1.0//EN
CALSCALE:GREGORIAN
METHOD:PUBLISH
X-ORIGINAL-URL:https://www.corvetteclubofwindsor.com
X-WR-CALDESC:Events for Corvette Club of Windsor
REFRESH-INTERVAL;VALUE=DURATION:PT1H
X-Robots-Tag:noindex
X-PUBLISHED-TTL:PT1H
BEGIN:VTIMEZONE
TZID:America/Toronto
BEGIN:DAYLIGHT
TZOFFSETFROM:-0500
TZOFFSETTO:-0400
TZNAME:EDT
DTSTART:20240310T070000
END:DAYLIGHT
BEGIN:STANDARD
TZOFFSETFROM:-0400
TZOFFSETTO:-0500
TZNAME:EST
DTSTART:20241103T060000
END:STANDARD
BEGIN:DAYLIGHT
TZOFFSETFROM:-0500
TZOFFSETTO:-0400
TZNAME:EDT
DTSTART:20250309T070000
END:DAYLIGHT
BEGIN:STANDARD
TZOFFSETFROM:-0400
TZOFFSETTO:-0500
TZNAME:EST
DTSTART:20251102T060000
END:STANDARD
BEGIN:DAYLIGHT
TZOFFSETFROM:-0500
TZOFFSETTO:-0400
TZNAME:EDT
DTSTART:20260308T070000
END:DAYLIGHT
BEGIN:STANDARD
TZOFFSETFROM:-0400
TZOFFSETTO:-0500
TZNAME:EST
DTSTART:20261101T060000
END:STANDARD
END:VTIMEZONE
BEGIN:VEVENT
DTSTART;TZID=America/Toronto:20251212T173000
DTEND;TZID=America/Toronto:20251212T230000
DTSTAMP:20260423T190204
CREATED:20250519T214827Z
LAST-MODIFIED:20251123T163015Z
UID:9807-1765560600-1765580400@www.corvetteclubofwindsor.com
SUMMARY:CCoW 2025 Christmas Party
DESCRIPTION:Once again we were able to procure the beautiful Willistead Manor for our annual Christmas party. Please get your reservations into Ed Jones ASAP. We need to get an accurate count on the number of people attending. Dinner will be a plated meal and you have your choice of: \n\nBeef Tenderloin Filet with Soy Butter reduction\, Potato Pave and glazed carrots including soup\, salad and dessert.\nProsciutto Wrapped Chicken Stuffed with Sundried Tomatoes and Goat Cheese with Cauliflower Puree and Brussel Sprouts\, including soup\, salad\, and dessert.\nVegan option Mushroom Wellington with roasted carrots\, mashed potatoes\, soup\, salad\, and dessert.\n\nThe price is $110 per person. A $100 per couple deposit is required. Please let Ed know your meal selection when you make your deposit. Your deposit is fully refundable up to November 20th.  Payment should be made by etransfer to Ed (see email below). \n*PLEASE LET ED KNOW AS SOON A SPOSSIBLE IF YOU PLAN TO ATTEND* \nLIMITED TO 80 PEOPLE. \n  \n  \n 
URL:https://www.corvetteclubofwindsor.com/event/ccow-2025-christmas-party/
LOCATION:Willistead Manor\, 1899 Niagara Street\, Windsor\, Ontario\, N8Y 2K7\, Canada
CATEGORIES:Social
ATTACH;FMTTYPE=image/jpeg:https://www.corvetteclubofwindsor.com/wp-content/uploads/2025/05/Willistead-Xmas.jpg
ORGANIZER;CN="Ed Jones":MAILTO:edljones@hotmail.com
END:VEVENT
END:VCALENDAR