BEGIN:VCALENDAR
VERSION:2.0
PRODID:-//Corvette Club of Windsor - ECPv6.15.20//NONSGML v1.0//EN
CALSCALE:GREGORIAN
METHOD:PUBLISH
X-ORIGINAL-URL:https://www.corvetteclubofwindsor.com
X-WR-CALDESC:Events for Corvette Club of Windsor
REFRESH-INTERVAL;VALUE=DURATION:PT1H
X-Robots-Tag:noindex
X-PUBLISHED-TTL:PT1H
BEGIN:VTIMEZONE
TZID:America/Toronto
BEGIN:DAYLIGHT
TZOFFSETFROM:-0500
TZOFFSETTO:-0400
TZNAME:EDT
DTSTART:20240310T070000
END:DAYLIGHT
BEGIN:STANDARD
TZOFFSETFROM:-0400
TZOFFSETTO:-0500
TZNAME:EST
DTSTART:20241103T060000
END:STANDARD
BEGIN:DAYLIGHT
TZOFFSETFROM:-0500
TZOFFSETTO:-0400
TZNAME:EDT
DTSTART:20250309T070000
END:DAYLIGHT
BEGIN:STANDARD
TZOFFSETFROM:-0400
TZOFFSETTO:-0500
TZNAME:EST
DTSTART:20251102T060000
END:STANDARD
BEGIN:DAYLIGHT
TZOFFSETFROM:-0500
TZOFFSETTO:-0400
TZNAME:EDT
DTSTART:20260308T070000
END:DAYLIGHT
BEGIN:STANDARD
TZOFFSETFROM:-0400
TZOFFSETTO:-0500
TZNAME:EST
DTSTART:20261101T060000
END:STANDARD
END:VTIMEZONE
BEGIN:VEVENT
DTSTART;TZID=America/Toronto:20251025T080000
DTEND;TZID=America/Toronto:20251025T140000
DTSTAMP:20260423T221923
CREATED:20251014T155350Z
LAST-MODIFIED:20251021T150934Z
UID:10553-1761379200-1761400800@www.corvetteclubofwindsor.com
SUMMARY:October Cruise – “Lingenfelter Cars & Coffee”
DESCRIPTION:Cruise Captain Kevin Renaud will lead a group departing from the Windsor/Detroit Tunnel duty free parking lot at 7:00 AM . TIME CHANGE – NOW 8:00 AM DEPARTURE!!! Please let him know if you are planning to join him! \nPlease note: the group will be going to  Ciao Amici in Brighton\, Michigan for lunch.
URL:https://www.corvetteclubofwindsor.com/event/october-cruise-lingenfelter-cars-coffee/
LOCATION:Lingenfelter Perfomance Engineering\, 47451 Avante Dr\, Wixom\, MI\, 48393\, United States
ATTACH;FMTTYPE=image/jpeg:https://www.corvetteclubofwindsor.com/wp-content/uploads/2025/10/Lingenfelter-CC.jpg
ORGANIZER;CN="Kevin Renaud":MAILTO:goaliedad43@gmail.com
END:VEVENT
END:VCALENDAR