BEGIN:VCALENDAR
VERSION:2.0
PRODID:-//Corvette Club of Windsor - ECPv6.15.20//NONSGML v1.0//EN
CALSCALE:GREGORIAN
METHOD:PUBLISH
X-ORIGINAL-URL:https://www.corvetteclubofwindsor.com
X-WR-CALDESC:Events for Corvette Club of Windsor
REFRESH-INTERVAL;VALUE=DURATION:PT1H
X-Robots-Tag:noindex
X-PUBLISHED-TTL:PT1H
BEGIN:VTIMEZONE
TZID:America/Toronto
BEGIN:DAYLIGHT
TZOFFSETFROM:-0500
TZOFFSETTO:-0400
TZNAME:EDT
DTSTART:20240310T070000
END:DAYLIGHT
BEGIN:STANDARD
TZOFFSETFROM:-0400
TZOFFSETTO:-0500
TZNAME:EST
DTSTART:20241103T060000
END:STANDARD
BEGIN:DAYLIGHT
TZOFFSETFROM:-0500
TZOFFSETTO:-0400
TZNAME:EDT
DTSTART:20250309T070000
END:DAYLIGHT
BEGIN:STANDARD
TZOFFSETFROM:-0400
TZOFFSETTO:-0500
TZNAME:EST
DTSTART:20251102T060000
END:STANDARD
BEGIN:DAYLIGHT
TZOFFSETFROM:-0500
TZOFFSETTO:-0400
TZNAME:EDT
DTSTART:20260308T070000
END:DAYLIGHT
BEGIN:STANDARD
TZOFFSETFROM:-0400
TZOFFSETTO:-0500
TZNAME:EST
DTSTART:20261101T060000
END:STANDARD
END:VTIMEZONE
BEGIN:VEVENT
DTSTART;VALUE=DATE:20250629
DTEND;VALUE=DATE:20250630
DTSTAMP:20260424T030408
CREATED:20250618T123240Z
LAST-MODIFIED:20250618T123240Z
UID:10273-1751155200-1751241599@www.corvetteclubofwindsor.com
SUMMARY:Dairy Freez - Ice Cream
DESCRIPTION:As a club sponsor\, we encourage you to join our members for a treat at the iconic Dairy Freez. \nEnjoy ice cream\, classic American foods and other treats at this family run drive-in restaurant.  Proudly serving Essex County since 1954.
URL:https://www.corvetteclubofwindsor.com/event/dairy-freez-ice-cream/
LOCATION:Dairy Freez\, 368 County Rd 34\, \, ON\, Kingsville\, Ontario\, N8M 2X5\, Canada
CATEGORIES:Cruises & Trips,Drives,Social
ATTACH;FMTTYPE=image/jpeg:https://www.corvetteclubofwindsor.com/wp-content/uploads/2025/06/Dairy-Freez.jpg
ORGANIZER;CN="Lynda Reaume":MAILTO:lyndareaume@yahoo.com
END:VEVENT
END:VCALENDAR