BEGIN:VCALENDAR
VERSION:2.0
PRODID:-//Corvette Club of Windsor - ECPv6.15.20//NONSGML v1.0//EN
CALSCALE:GREGORIAN
METHOD:PUBLISH
X-WR-CALNAME:Corvette Club of Windsor
X-ORIGINAL-URL:https://www.corvetteclubofwindsor.com
X-WR-CALDESC:Events for Corvette Club of Windsor
REFRESH-INTERVAL;VALUE=DURATION:PT1H
X-Robots-Tag:noindex
X-PUBLISHED-TTL:PT1H
BEGIN:VTIMEZONE
TZID:America/Toronto
BEGIN:DAYLIGHT
TZOFFSETFROM:-0500
TZOFFSETTO:-0400
TZNAME:EDT
DTSTART:20240310T070000
END:DAYLIGHT
BEGIN:STANDARD
TZOFFSETFROM:-0400
TZOFFSETTO:-0500
TZNAME:EST
DTSTART:20241103T060000
END:STANDARD
BEGIN:DAYLIGHT
TZOFFSETFROM:-0500
TZOFFSETTO:-0400
TZNAME:EDT
DTSTART:20250309T070000
END:DAYLIGHT
BEGIN:STANDARD
TZOFFSETFROM:-0400
TZOFFSETTO:-0500
TZNAME:EST
DTSTART:20251102T060000
END:STANDARD
BEGIN:DAYLIGHT
TZOFFSETFROM:-0500
TZOFFSETTO:-0400
TZNAME:EDT
DTSTART:20260308T070000
END:DAYLIGHT
BEGIN:STANDARD
TZOFFSETFROM:-0400
TZOFFSETTO:-0500
TZNAME:EST
DTSTART:20261101T060000
END:STANDARD
END:VTIMEZONE
BEGIN:VEVENT
DTSTART;TZID=America/Toronto:20250311T174500
DTEND;TZID=America/Toronto:20250311T193000
DTSTAMP:20260424T093330
CREATED:20250206T012612Z
LAST-MODIFIED:20250206T012632Z
UID:9534-1741715100-1741721400@www.corvetteclubofwindsor.com
SUMMARY:River's Edge Tap & Table (Club Dinner)
DESCRIPTION:[vc_row][vc_column][vc_column_text css=””]Club dinner at River’s Edge Tap & Table. Please confirm your attendance  by March 4th with Lynda Reaume. \nMobile: (519) 977-4925 \nEmail: lyndareaume@yahoo.com[/vc_column_text][/vc_column][/vc_row]
URL:https://www.corvetteclubofwindsor.com/event/https-www-visitwindsoressex-com-places-rivers-edge-tap-table/
LOCATION:River’s Edge Tap & Table\, 494 Riverdale Ave\, Windsor\, Ontario\, N8S 4B6\, Canada
ATTACH;FMTTYPE=image/jpeg:https://www.corvetteclubofwindsor.com/wp-content/uploads/2025/02/bar-1-640x427-1.jpg
END:VEVENT
END:VCALENDAR